BEGIN:VCALENDAR
VERSION:2.0
PRODID:-//Power Creative - ECPv6.15.20//NONSGML v1.0//EN
CALSCALE:GREGORIAN
METHOD:PUBLISH
X-ORIGINAL-URL:https://powercreativestl.com
X-WR-CALDESC:Events for Power Creative
REFRESH-INTERVAL;VALUE=DURATION:PT1H
X-Robots-Tag:noindex
X-PUBLISHED-TTL:PT1H
BEGIN:VTIMEZONE
TZID:America/Chicago
BEGIN:DAYLIGHT
TZOFFSETFROM:-0600
TZOFFSETTO:-0500
TZNAME:CDT
DTSTART:20240310T080000
END:DAYLIGHT
BEGIN:STANDARD
TZOFFSETFROM:-0500
TZOFFSETTO:-0600
TZNAME:CST
DTSTART:20241103T070000
END:STANDARD
BEGIN:DAYLIGHT
TZOFFSETFROM:-0600
TZOFFSETTO:-0500
TZNAME:CDT
DTSTART:20250309T080000
END:DAYLIGHT
BEGIN:STANDARD
TZOFFSETFROM:-0500
TZOFFSETTO:-0600
TZNAME:CST
DTSTART:20251102T070000
END:STANDARD
BEGIN:DAYLIGHT
TZOFFSETFROM:-0600
TZOFFSETTO:-0500
TZNAME:CDT
DTSTART:20260308T080000
END:DAYLIGHT
BEGIN:STANDARD
TZOFFSETFROM:-0500
TZOFFSETTO:-0600
TZNAME:CST
DTSTART:20261101T070000
END:STANDARD
END:VTIMEZONE
BEGIN:VEVENT
DTSTART;TZID=America/Chicago:20250906T183000
DTEND;TZID=America/Chicago:20250906T213000
DTSTAMP:20260424T115931
CREATED:20250827T184955Z
LAST-MODIFIED:20250827T184957Z
UID:10000342-1757183400-1757194200@powercreativestl.com
SUMMARY:PRIVATE EVENT: All Among Us
DESCRIPTION:
URL:https://powercreativestl.com/event/private-event-all-among-us/
LOCATION:WEvent Space\, 3221 Oak Hill Ave\, St. Louis\, MO\, 63116\, United States
END:VEVENT
BEGIN:VEVENT
DTSTART;TZID=America/Chicago:20250913T193000
DTEND;TZID=America/Chicago:20250913T213000
DTSTAMP:20260424T115931
CREATED:20250827T185413Z
LAST-MODIFIED:20250903T162552Z
UID:10000343-1757791800-1757799000@powercreativestl.com
SUMMARY:WEConcert - James Ibur & Company
DESCRIPTION:$10 General Admission\n\n\n\n\n\n\n\n\n\n\n\nTHE SHOW\n\n\n\nJoin us for an unforgettable night of music with the talented singer-songwriter James Ibur and a full cast of guest musicians\, including E&E Railroad\, Von Ibur\, and Danny Bess. \n\n\n\nTHE ARTISTS\n\n\n\nJames Ibur is a multi-disciplinary visual artist\, professor\, and songwriter\, as well as frontman for the St. Louis rock alt-rock band Flying House. His heartfelt\, guitar-driven style pulls influences from blues\, rock\, folk\, and country to create a sound all his own. \n\n\n\nTHE SPACE\n\n\n\nThe WEvent Space is a distinctive venue located in the heart of the Tower Grove South neighborhood\, set within a beautifully restored church. Embracing the spirit of its historic roots\, the space provides a laid-back\, welcoming setting for a wide array of local live acts. Central to its mission is the WEConcert Series—an ongoing effort to reestablish the former church as a vibrant hub and gathering place for the community. Through music\, art\, and connection\, WEvent Space invites all to be part of a shared creative experience in one of the neighborhood’s most unique venues. \n\n\n\n\n\n\n\nShare this WEvent \n\n\n\n   Facebook   Twitter   Messenger   Reddit   Gmail\n\n\n\n\n\nTICKETS $10Also available at the door with Cash/Venmo! \n\n\n\n\n\n\n				\n				\n				\n				\n				\n				\n				\n				\n				\n				\n				\n				\n				\n				\n				\n				\n				\n				\n\n\n\n\n			\n			\n				\n				\n				\n				\n			\n				\n				\n			\n\n\n\n\n\nWEvent FAQs \n\n\n\n\n\n\n\n\n\n\nWill there be drinks available at the event?\nYes\, we have a small bar in-house offering a variety of beer\, wine\, & n/a beverages. \n\n\n\n\nWhat is the parking situation?\nWe have a small private parking lot on Humphry\, just West of the main building\, and plenty of free street parking around us. \n\n\n\n\nIs there an easy way to keep up with all of the concerts at the WEvent Space?\nIn fact\, there are several! We keep our events updated on our Calendar\, Songkick\, Eventbrite\, Facebook\, and our Monthly Newsletter. \n\n\n\n\nIs the WEvent Space available to rent for private parties or special occasions?\nAbsolutely! We have accommodated all kinds of events\, from choir practice\, to board meetings\, to luncheons\, to yoga classes. You name it\, one of our spaces is bound to fit your needs. Learn more on our website\, here.
URL:https://powercreativestl.com/event/weconcert-ibur-september/
CATEGORIES:WEConcert
ATTACH;FMTTYPE=image/jpeg:https://powercreativestl.com/wp-content/uploads/2025/07/Ibur-CoCo.jpg
END:VEVENT
BEGIN:VEVENT
DTSTART;TZID=America/Chicago:20250925T170000
DTEND;TZID=America/Chicago:20250925T190000
DTSTAMP:20260424T115931
CREATED:20250812T142933Z
LAST-MODIFIED:20250812T142937Z
UID:10000283-1758819600-1758826800@powercreativestl.com
SUMMARY:[Resuming in October!] People Meeting People
DESCRIPTION:We are off for September\, but fret not ma-cheri\, we shall return a la October! \n\n\n\nPower Creative and Tower Grove Neighborhood Association invite you to join us for a fun\, casual meet-and-greet with (soon to be) friends from your very-own neighborhood. \n\n\n\n\n\n\n\n\n\n\n\n\n\nIn case you were wondering… \n\n\n\n\n\n\nWhat makes an event networking-ish?\nFlexibility. We want this to be an opportunity for making connections\, be it professional or otherwise. \n\n\n\n\nWhat should I expect to find at this shin-dig?\nThere will be light snacks\, open bar\, and a whole bunch of other Tower-Grovians—Tower-Grovers? Tower Grove Southerners? You know\, Neighbors—to talk to. \n\n\n\n\nWhat’s the catch? Is this some kind of timeshare pitch or something?\nNo catch. And people were growing wise on the timeshare schtick… so this is just an honest-to-goodness community meetup. You never know what magic may come from new connections.
URL:https://powercreativestl.com/event/people-meeting-people-a-free-networkingish-event/
ATTACH;FMTTYPE=image/png:https://powercreativestl.com/wp-content/uploads/2025/04/Networking-PauseSeptember.png
END:VEVENT
BEGIN:VEVENT
DTSTART;TZID=America/Chicago:20250927T153000
DTEND;TZID=America/Chicago:20250927T170000
DTSTAMP:20260424T115931
CREATED:20250401T190422Z
LAST-MODIFIED:20251110T174641Z
UID:10000014-1758987000-1758992400@powercreativestl.com
SUMMARY:Love in Action - Church without Walls
DESCRIPTION:Please join us for our monthly meet & greet style worship service. All are welcome!WHATFellowship\, prayer and light refreshmentsWHENEvery last Saturday of the month @ 3:30pmWHRE3221 Oak Hill Ave.\,St. Louis\, MO 63116RSVPSed Robinson and Imani Robinson314-623-7393 | 314-809-7776MORE INFOloveinactionstl.org \n\n\n\n\n\n\n\n\n\n\n\n\n\nThe WEvent Space is reserved at this time for a Private Event. Please come visit us at another time\, or Use the WEvent Space for an event of your own!
URL:https://powercreativestl.com/event/love-in-action-church-without-walls/2025-09-27/
LOCATION:WEvent Space\, 3221 Oak Hill Ave\, St. Louis\, MO\, 63116\, United States
ATTACH;FMTTYPE=image/png:https://powercreativestl.com/wp-content/uploads/2025/04/LIA-flyer.png
END:VEVENT
BEGIN:VEVENT
DTSTART;TZID=America/Chicago:20250927T153000
DTEND;TZID=America/Chicago:20250927T170000
DTSTAMP:20260424T115931
CREATED:20251110T174718Z
LAST-MODIFIED:20251110T195754Z
UID:10001750-1758987000-1758992400@powercreativestl.com
SUMMARY:Love in Action - Church without Walls
DESCRIPTION:Please join us for our monthly meet & greet style worship service. All are welcome! \n\n\n\n\n\n\n\n\n\n\n\n\n\n\nWHATFellowship\, prayer and light refreshmentsWHENEvery last Saturday of the month @ 3:30pmWHRE3221 Oak Hill Ave.\,St. Louis\, MO 63116RSVPSed Robinson and Imani Robinson314-623-7393 | 314-809-7776MORE INFOloveinactionstl.org \n\n\n\n\n\n\n\n\n\n\nThe WEvent Space is reserved at this time for a Private Event. Please come visit us at another time\, or Use the WEvent Space for an event of your own!
URL:https://powercreativestl.com/event/love-in-action-church-without-walls-2/2025-09-27/
ATTACH;FMTTYPE=image/png:https://powercreativestl.com/wp-content/uploads/2025/04/LOA-Logo-Horizontal-25-scaled.png
END:VEVENT
BEGIN:VEVENT
DTSTART;TZID=America/Chicago:20250927T153000
DTEND;TZID=America/Chicago:20250927T170000
DTSTAMP:20260424T115931
CREATED:20251110T195851Z
LAST-MODIFIED:20251224T152450Z
UID:10001763-1758987000-1758992400@powercreativestl.com
SUMMARY:Love in Action - Church without Walls
DESCRIPTION:All are welcome!\n\n\n\n\nPlease join us for our monthlymeet & greet style worship service. \n\n\n\n\n\n\n\n\n\n\n\n\n\n\n\n\nWHAT \n\n\n\nFellowship\, prayer and light refreshments \n\n\n\nWHEN \n\n\n\nEvery last Saturday of the month@ 3:30pm \n\n\n\nWHERE \n\n\n\n3221 Oak Hill Ave.\,St. Louis\, MO 63116 \n\n\n\nRSVP \n\n\n\nSed Robinson & Imani Robinson314-623-7393 | 314-809-7776 \n\n\n\n\n\n\n\n\n\n\n\n\n\n\n\nMORE INFOloveinactionstl.org
URL:https://powercreativestl.com/event/love-in-action-church-without-walls-3/2025-09-27/
ATTACH;FMTTYPE=image/png:https://powercreativestl.com/wp-content/uploads/2025/04/LOA-Logo-Horizontal-25-scaled.png
END:VEVENT
END:VCALENDAR