BEGIN:VCALENDAR
VERSION:2.0
PRODID:-//Power Creative - ECPv6.15.20//NONSGML v1.0//EN
CALSCALE:GREGORIAN
METHOD:PUBLISH
X-WR-CALNAME:Power Creative
X-ORIGINAL-URL:https://powercreativestl.com
X-WR-CALDESC:Events for Power Creative
REFRESH-INTERVAL;VALUE=DURATION:PT1H
X-Robots-Tag:noindex
X-PUBLISHED-TTL:PT1H
BEGIN:VTIMEZONE
TZID:America/Chicago
BEGIN:DAYLIGHT
TZOFFSETFROM:-0600
TZOFFSETTO:-0500
TZNAME:CDT
DTSTART:20240310T080000
END:DAYLIGHT
BEGIN:STANDARD
TZOFFSETFROM:-0500
TZOFFSETTO:-0600
TZNAME:CST
DTSTART:20241103T070000
END:STANDARD
BEGIN:DAYLIGHT
TZOFFSETFROM:-0600
TZOFFSETTO:-0500
TZNAME:CDT
DTSTART:20250309T080000
END:DAYLIGHT
BEGIN:STANDARD
TZOFFSETFROM:-0500
TZOFFSETTO:-0600
TZNAME:CST
DTSTART:20251102T070000
END:STANDARD
BEGIN:DAYLIGHT
TZOFFSETFROM:-0600
TZOFFSETTO:-0500
TZNAME:CDT
DTSTART:20260308T080000
END:DAYLIGHT
BEGIN:STANDARD
TZOFFSETFROM:-0500
TZOFFSETTO:-0600
TZNAME:CST
DTSTART:20261101T070000
END:STANDARD
END:VTIMEZONE
BEGIN:VEVENT
DTSTART;TZID=America/Chicago:20250808T190000
DTEND;TZID=America/Chicago:20250808T210000
DTSTAMP:20260424T133540
CREATED:20250624T211401Z
LAST-MODIFIED:20250624T211639Z
UID:10000278-1754679600-1754686800@powercreativestl.com
SUMMARY:WEConcert - featuring Erin Bode
DESCRIPTION:$20General Admission\n\n\n\n\n\n\n\n\n\n\n\nTHE SHOW\n\n\n\nJoin us for an unforgettable evening with Erin Bode\, the multi-talented songstress whose music blends Jazz roots with elements of Folk & Americana. \n\n\n\nTHE ARTIST\n\n\n\nIn the decade-plus since Erin Bode began her professional recording career\, she has garnered much critical praise for her pure voice and impressive phrasing and style. It is this talent\, coupled with her reluctance to accept classification as a purely jazz vocalist that has led to reviews hailing her as “someone you won’t forget” and comparing her sound to the likes of Eva Cassidy and Norah Jones. \n\n\n\nTHE SPACE\n\n\n\nThe WEvent Space is a distinctive venue located in the heart of the Tower Grove South neighborhood\, set within a beautifully restored church. Embracing the spirit of its historic roots\, the space provides a laid-back\, welcoming setting for a wide array of local live acts. Central to its mission is the WEConcert Series—an ongoing effort to reestablish the former church as a vibrant hub and gathering place for the community. Through music\, art\, and connection\, WEvent Space invites all to be part of a shared creative experience in one of the neighborhood’s most unique venues. \n\n\n\n\n\n\n\nShare this WEvent \n\n\n\n   Facebook   Twitter   Messenger   Reddit   Gmail\n\n\n\n\n\nPURCHASE TICKETS HEREor at the door with Cash or Venmo \n\n\n\n\n\n\n				\n				\n				\n				\n				\n				\n				\n				\n				\n				\n				\n				\n				\n				\n				\n				\n				\n				\n\n\n\n\n			\n			\n				\n				\n				\n				\n			\n				\n				\n			\n\n\n\n\n\nWEvent FAQs \n\n\n\n\n\n\n\n\n\n\nWill there be food and drink available at the event?\nYes\, we have a small bar in-house offering a variety of beer\, wine\, na beverages\, and snacks. \n\n\n\n\nWhat is the parking situation?\nWe have a small private parking lot on Humphry\, just West of the main building\, and plenty of free street parking around us. \n\n\n\n\nIs there an easy way to keep up with all of the concerts at the WEvent Space?\nIn fact\, there are several! We keep our events updated on our Calendar\, Songkick\, Eventbrite\, Facebook\, and our Monthly Newsletter. \n\n\n\n\nIs the WEvent Space available to rent for private parties or special occasions?\nAbsolutely! We have accommodated all kinds of events\, from choir practice\, to board meetings\, to luncheons\, to yoga classes. You name it\, one of our spaces is bound to fit your needs. Learn more on our website\, here.
URL:https://powercreativestl.com/event/erin-bode-august/
CATEGORIES:WEConcert
ATTACH;FMTTYPE=image/jpeg:https://powercreativestl.com/wp-content/uploads/2025/06/Erin_Bode_Chicklet-5.jpg
END:VEVENT
BEGIN:VEVENT
DTSTART;TZID=America/Chicago:20250813T173000
DTEND;TZID=America/Chicago:20250813T200000
DTSTAMP:20260424T133540
CREATED:20250421T014636Z
LAST-MODIFIED:20250827T183835Z
UID:10000248-1755106200-1755115200@powercreativestl.com
SUMMARY:PRIVATE EVENT: Ashrei Summer Soiree
DESCRIPTION:
URL:https://powercreativestl.com/event/private-event-ashrei-summer-soiree/
LOCATION:WEvent Space\, 3221 Oak Hill Ave\, St. Louis\, MO\, 63116\, United States
ATTACH;FMTTYPE=image/jpeg:https://powercreativestl.com/wp-content/uploads/2025/04/ashrei-logo-h-secondary-2c.jpg
END:VEVENT
BEGIN:VEVENT
DTSTART;TZID=America/Chicago:20250822T193000
DTEND;TZID=America/Chicago:20250822T213000
DTSTAMP:20260424T133540
CREATED:20250722T005852Z
LAST-MODIFIED:20250815T180828Z
UID:10000281-1755891000-1755898200@powercreativestl.com
SUMMARY:WEConcert - James Ibur & Co Return
DESCRIPTION:$10 General Admission\n\n\n\n\n\n\n\n\n\n\n\nTHE SHOW\n\n\n\nJoin us for an unforgettable night of music with the talented singer-songwriter James Ibur\, accompanied by fellow songwriter Jane Godfrey\, Stephanie Stewart & Danny Kathriner from All the Days\, and Michael Quintero & Steve Lewis performing as Temporary Fragments of Light. With a lineup this stacked\, this is one night of musical jams you wont find anywhere else! \n\n\n\nTHE ARTISTS\n\n\n\nJames Ibur is a multi-disciplinary visual artist\, professor\, and songwriter\, as well as frontman for the St. Louis rock alt-rock band Flying House. His heartfelt\, guitar-driven style pulls influences from blues\, rock\, folk\, and country to create a sound all his own. \n\n\n\nJane Godfrey proudly embraces the moniker “Bravest of introverted entertainers.” She writes and performs in her self-titled genre of “Urban Campfire Cabaret” nationally\, as a solo artist and as half of the duo\, CatBird with Chicago singer-songwriter\, Sue Fink\, (and occasionally with her siblings in The Murphy Family Band). \n\n\n\nStephanie Stewart & Danny Kathriner make up half of the St. Louis based band All the Days. Both prolific songwriters\, they began sharing ideas at the beginning of 2022. The two recorded more than 30 songs\, taking turns singing lead vocals and adding layers of harmony to each. Their collaboration lead to a collection of bright\, folky\, and melodically complex tunes which keeps growing day by day.  \n\n\n\nMichael Quintero & Steve Lewis make up Temporary Fragments of Light\, a project spun off from their larger band Mobile Alien Research Unit. The band names should be your first clue: something experimental is going on. With hard-edged vocals\, ethereal electric guitar\, and percussive drumbeats\, the duo create a charged atmosphere which delves into rock\, metal\, and beyond. \n\n\n\nTHE SPACE\n\n\n\nThe WEvent Space is a distinctive venue located in the heart of the Tower Grove South neighborhood\, set within a beautifully restored church. Embracing the spirit of its historic roots\, the space provides a laid-back\, welcoming setting for a wide array of local live acts. Central to its mission is the WEConcert Series—an ongoing effort to reestablish the former church as a vibrant hub and gathering place for the community. Through music\, art\, and connection\, WEvent Space invites all to be part of a shared creative experience in one of the neighborhood’s most unique venues. \n\n\n\n\n\n\n\nShare this WEvent \n\n\n\n   Facebook   Twitter   Messenger   Reddit   Gmail\n\n\n\n\n\nTICKETS $10Available online or at the door with Cash or Venmo \n\n\n\n\n\n\n				\n				\n				\n				\n				\n				\n				\n				\n				\n				\n				\n				\n				\n				\n				\n				\n				\n				\n\n\n\n\n			\n			\n				\n				\n				\n				\n			\n				\n				\n			\n\n\n\n\n\nWEvent FAQs \n\n\n\n\n\n\n\n\n\n\nWill there be food and drink available at the event?\nYes\, we have a small bar in-house offering a variety of beer\, wine\, na beverages\, and snacks. \n\n\n\n\nWhat is the parking situation?\nWe have a small private parking lot on Humphry\, just West of the main building\, and plenty of free street parking around us. \n\n\n\n\nIs there an easy way to keep up with all of the concerts at the WEvent Space?\nIn fact\, there are several! We keep our events updated on our Calendar\, Songkick\, Eventbrite\, Facebook\, and our Monthly Newsletter. \n\n\n\n\nIs the WEvent Space available to rent for private parties or special occasions?\nAbsolutely! We have accommodated all kinds of events\, from choir practice\, to board meetings\, to luncheons\, to yoga classes. You name it\, one of our spaces is bound to fit your needs. Learn more on our website\, here.
URL:https://powercreativestl.com/event/weconcert-iburandco/
CATEGORIES:WEConcert
ATTACH;FMTTYPE=image/jpeg:https://powercreativestl.com/wp-content/uploads/2025/07/Ibur-CoCo.jpg
END:VEVENT
BEGIN:VEVENT
DTSTART;TZID=America/Chicago:20250828T170000
DTEND;TZID=America/Chicago:20250828T190000
DTSTAMP:20260424T133540
CREATED:20250428T223604Z
LAST-MODIFIED:20251021T201607Z
UID:10000282-1756400400-1756407600@powercreativestl.com
SUMMARY:People Meeting People: A FREE Networking(ish) Event
DESCRIPTION:Have a drink. Meet your neighbors. Bring a friend. Or two. Or Three. \n\n\n\nPower Creative and Tower Grove Neighborhood Association invite you to join us for a fun\, casual meet-and-greet with people from all around the St. Louis community. \n\n\n\n\n\n\n\n\n\n\n\n\n\nIn case you were wondering… \n\n\n\n\n\n\nWhat makes an event networking-ish?\nFlexibility. We want this to be an opportunity for making connections\, be it professional or otherwise. \n\n\n\n\nWhat should I expect to find at this shin-dig?\nThere will be light snacks\, open bar\, and a whole bunch of other Tower-Grovians—Tower-Grovers? Tower Grove Southerners? You know\, Neighbors—to talk to. \n\n\n\n\nWhat’s the catch? Is this some kind of timeshare pitch or something?\nNo catch. And people were growing wise on the timeshare schtick… so this is just an honest-to-goodness community meetup. You never know what magic may come from new connections.
URL:https://powercreativestl.com/event/meeting-people/2025-08-28/
END:VEVENT
BEGIN:VEVENT
DTSTART;TZID=America/Chicago:20250830T153000
DTEND;TZID=America/Chicago:20250830T170000
DTSTAMP:20260424T133540
CREATED:20250401T190422Z
LAST-MODIFIED:20251110T174641Z
UID:10000013-1756567800-1756573200@powercreativestl.com
SUMMARY:Love in Action - Church without Walls
DESCRIPTION:Please join us for our monthly meet & greet style worship service. All are welcome!WHATFellowship\, prayer and light refreshmentsWHENEvery last Saturday of the month @ 3:30pmWHRE3221 Oak Hill Ave.\,St. Louis\, MO 63116RSVPSed Robinson and Imani Robinson314-623-7393 | 314-809-7776MORE INFOloveinactionstl.org \n\n\n\n\n\n\n\n\n\n\n\n\n\nThe WEvent Space is reserved at this time for a Private Event. Please come visit us at another time\, or Use the WEvent Space for an event of your own!
URL:https://powercreativestl.com/event/love-in-action-church-without-walls/2025-08-30/
LOCATION:WEvent Space\, 3221 Oak Hill Ave\, St. Louis\, MO\, 63116\, United States
ATTACH;FMTTYPE=image/png:https://powercreativestl.com/wp-content/uploads/2025/04/LIA-flyer.png
END:VEVENT
BEGIN:VEVENT
DTSTART;TZID=America/Chicago:20250830T153000
DTEND;TZID=America/Chicago:20250830T170000
DTSTAMP:20260424T133540
CREATED:20251110T174718Z
LAST-MODIFIED:20251110T195754Z
UID:10001749-1756567800-1756573200@powercreativestl.com
SUMMARY:Love in Action - Church without Walls
DESCRIPTION:Please join us for our monthly meet & greet style worship service. All are welcome! \n\n\n\n\n\n\n\n\n\n\n\n\n\n\nWHATFellowship\, prayer and light refreshmentsWHENEvery last Saturday of the month @ 3:30pmWHRE3221 Oak Hill Ave.\,St. Louis\, MO 63116RSVPSed Robinson and Imani Robinson314-623-7393 | 314-809-7776MORE INFOloveinactionstl.org \n\n\n\n\n\n\n\n\n\n\nThe WEvent Space is reserved at this time for a Private Event. Please come visit us at another time\, or Use the WEvent Space for an event of your own!
URL:https://powercreativestl.com/event/love-in-action-church-without-walls-2/2025-08-30/
ATTACH;FMTTYPE=image/png:https://powercreativestl.com/wp-content/uploads/2025/04/LOA-Logo-Horizontal-25-scaled.png
END:VEVENT
BEGIN:VEVENT
DTSTART;TZID=America/Chicago:20250830T153000
DTEND;TZID=America/Chicago:20250830T170000
DTSTAMP:20260424T133540
CREATED:20251110T195851Z
LAST-MODIFIED:20251224T152450Z
UID:10001762-1756567800-1756573200@powercreativestl.com
SUMMARY:Love in Action - Church without Walls
DESCRIPTION:All are welcome!\n\n\n\n\nPlease join us for our monthlymeet & greet style worship service. \n\n\n\n\n\n\n\n\n\n\n\n\n\n\n\n\nWHAT \n\n\n\nFellowship\, prayer and light refreshments \n\n\n\nWHEN \n\n\n\nEvery last Saturday of the month@ 3:30pm \n\n\n\nWHERE \n\n\n\n3221 Oak Hill Ave.\,St. Louis\, MO 63116 \n\n\n\nRSVP \n\n\n\nSed Robinson & Imani Robinson314-623-7393 | 314-809-7776 \n\n\n\n\n\n\n\n\n\n\n\n\n\n\n\nMORE INFOloveinactionstl.org
URL:https://powercreativestl.com/event/love-in-action-church-without-walls-3/2025-08-30/
ATTACH;FMTTYPE=image/png:https://powercreativestl.com/wp-content/uploads/2025/04/LOA-Logo-Horizontal-25-scaled.png
END:VEVENT
END:VCALENDAR