BEGIN:VCALENDAR
VERSION:2.0
PRODID:-//Power Creative - ECPv6.15.20//NONSGML v1.0//EN
CALSCALE:GREGORIAN
METHOD:PUBLISH
X-WR-CALNAME:Power Creative
X-ORIGINAL-URL:https://powercreativestl.com
X-WR-CALDESC:Events for Power Creative
REFRESH-INTERVAL;VALUE=DURATION:PT1H
X-Robots-Tag:noindex
X-PUBLISHED-TTL:PT1H
BEGIN:VTIMEZONE
TZID:America/Chicago
BEGIN:DAYLIGHT
TZOFFSETFROM:-0600
TZOFFSETTO:-0500
TZNAME:CDT
DTSTART:20240310T080000
END:DAYLIGHT
BEGIN:STANDARD
TZOFFSETFROM:-0500
TZOFFSETTO:-0600
TZNAME:CST
DTSTART:20241103T070000
END:STANDARD
BEGIN:DAYLIGHT
TZOFFSETFROM:-0600
TZOFFSETTO:-0500
TZNAME:CDT
DTSTART:20250309T080000
END:DAYLIGHT
BEGIN:STANDARD
TZOFFSETFROM:-0500
TZOFFSETTO:-0600
TZNAME:CST
DTSTART:20251102T070000
END:STANDARD
BEGIN:DAYLIGHT
TZOFFSETFROM:-0600
TZOFFSETTO:-0500
TZNAME:CDT
DTSTART:20260308T080000
END:DAYLIGHT
BEGIN:STANDARD
TZOFFSETFROM:-0500
TZOFFSETTO:-0600
TZNAME:CST
DTSTART:20261101T070000
END:STANDARD
END:VTIMEZONE
BEGIN:VEVENT
DTSTART;TZID=America/Chicago:20250522T170000
DTEND;TZID=America/Chicago:20250522T190000
DTSTAMP:20260424T201744
CREATED:20250428T223328Z
LAST-MODIFIED:20250521T044653Z
UID:10000252-1747933200-1747940400@powercreativestl.com
SUMMARY:FREE Networking WEvent
DESCRIPTION:Come connect with professionals\, build relationships\, and explore new possibilities.  \nJoin us for light refreshments and opportunities to build community. \nUPDATE: We are collecting disaster relief items – please consider bringing any of the following from our updated list… \n\n\n\nFace Masks/Hand sanitizer\nFlashlights/Glow Sticks\nMatches/Candles\n\n\nLED lights\nDisposable Gloves / First Aid Kits\nTarps\nUmbrellas/Ponchos\nSnack Packs\n\n\nRolling Trash Cans\nPhone Power Banks (charged preferrable)\nDiapers\nDisposable washcloths\nPaper Towels\nConstruction Bin Bags\nVinegar (for mold removal)
URL:https://powercreativestl.com/event/save-the-date-weworking-event/
LOCATION:WEvent Space\, 3221 Oak Hill Ave\, St. Louis\, MO\, 63116\, United States
END:VEVENT
BEGIN:VEVENT
DTSTART;TZID=America/Chicago:20250520T180000
DTEND;TZID=America/Chicago:20250520T200000
DTSTAMP:20260424T201744
CREATED:20250429T140900Z
LAST-MODIFIED:20250429T140900Z
UID:10000254-1747764000-1747771200@powercreativestl.com
SUMMARY:6TH WARD TOWN HALL
DESCRIPTION:MISSOURI LEGISLATURE SESSION WRAP UP \nJoin alderwoman\, Daniela Velázquez for a town hall with our 6th Ward Missouri Legislature representatives and senators for a debrief of what is happening at the state level. \nThe event will feature guests including: \n\n\nRep. LaKeySha Bosley (MO House District 79/Shaw)\nRep. Elizabeth “Lilly” Fuchs (MO House District 80/Tower Grove South)\nRep. Marty Joe Murray (MO House District 78/Compton Heights)\nSen. Steven Roberts (MO Senate District 5)\n\nRSVP HERE
URL:https://powercreativestl.com/event/6th-ward-town-hall/
LOCATION:WEvent Space\, 3221 Oak Hill Ave\, St. Louis\, MO\, 63116\, United States
ATTACH;FMTTYPE=image/png:https://powercreativestl.com/wp-content/uploads/2025/04/City-Manager-TTH_0228-Instagram-Post-45.png.png
END:VEVENT
BEGIN:VEVENT
DTSTART;TZID=America/Chicago:20250426T153000
DTEND;TZID=America/Chicago:20250426T170000
DTSTAMP:20260424T201744
CREATED:20251110T195851Z
LAST-MODIFIED:20251224T152450Z
UID:10001752-1745681400-1745686800@powercreativestl.com
SUMMARY:Love in Action - Church without Walls
DESCRIPTION:All are welcome!\n\n\n\n\nPlease join us for our monthlymeet & greet style worship service. \n\n\n\n\n\n\n\n\n\n\n\n\n\n\n\n\nWHAT \n\n\n\nFellowship\, prayer and light refreshments \n\n\n\nWHEN \n\n\n\nEvery last Saturday of the month@ 3:30pm \n\n\n\nWHERE \n\n\n\n3221 Oak Hill Ave.\,St. Louis\, MO 63116 \n\n\n\nRSVP \n\n\n\nSed Robinson & Imani Robinson314-623-7393 | 314-809-7776 \n\n\n\n\n\n\n\n\n\n\n\n\n\n\n\nMORE INFOloveinactionstl.org
URL:https://powercreativestl.com/event/love-in-action-church-without-walls-3/2025-04-26/
ATTACH;FMTTYPE=image/png:https://powercreativestl.com/wp-content/uploads/2025/04/LOA-Logo-Horizontal-25-scaled.png
END:VEVENT
BEGIN:VEVENT
DTSTART;TZID=America/Chicago:20250426T153000
DTEND;TZID=America/Chicago:20250426T170000
DTSTAMP:20260424T201744
CREATED:20251110T174718Z
LAST-MODIFIED:20251110T195754Z
UID:10000016-1745681400-1745686800@powercreativestl.com
SUMMARY:Love in Action - Church without Walls
DESCRIPTION:Please join us for our monthly meet & greet style worship service. All are welcome! \n\n\n\n\n\n\n\n\n\n\n\n\n\n\nWHATFellowship\, prayer and light refreshmentsWHENEvery last Saturday of the month @ 3:30pmWHRE3221 Oak Hill Ave.\,St. Louis\, MO 63116RSVPSed Robinson and Imani Robinson314-623-7393 | 314-809-7776MORE INFOloveinactionstl.org \n\n\n\n\n\n\n\n\n\n\nJoin us for our FREE Open Mic Night at the Power Creative WEvent Space\, presented in collaboration with Compton Heights Christian Church. Whether you’ve got a song in your heart\, a joke up your sleeve\, or a story that’s been racing around your mind\, we’ve got an open mic with your name on it. Express yourself. Not a performer? Come root for your neighbors; drop in and grab a drink; it’s not an open mic without an audience.
URL:https://powercreativestl.com/event/love-in-action-church-without-walls-2/2025-04-26/
ATTACH;FMTTYPE=image/png:https://powercreativestl.com/wp-content/uploads/2025/04/LOA-Logo-Horizontal-25-scaled.png
END:VEVENT
BEGIN:VEVENT
DTSTART;TZID=America/Chicago:20250426T153000
DTEND;TZID=America/Chicago:20250426T170000
DTSTAMP:20260424T201744
CREATED:20250401T190422Z
LAST-MODIFIED:20251110T174641Z
UID:10000009-1745681400-1745686800@powercreativestl.com
SUMMARY:Love in Action - Church without Walls
DESCRIPTION:Please join us for our monthly meet & greet style worship service. All are welcome!WHATFellowship\, prayer and light refreshmentsWHENEvery last Saturday of the month @ 3:30pmWHRE3221 Oak Hill Ave.\,St. Louis\, MO 63116RSVPSed Robinson and Imani Robinson314-623-7393 | 314-809-7776MORE INFOloveinactionstl.org \n\n\n\n\n\n\n\n\n\n\n\n\n\nJoin us for our FREE Open Mic Night at the Power Creative WEvent Space\, presented in collaboration with Compton Heights Christian Church. Whether you’ve got a song in your heart\, a joke up your sleeve\, or a story that’s been racing around your mind\, we’ve got an open mic with your name on it. Express yourself. Not a performer? Come root for your neighbors; drop in and grab a drink; it’s not an open mic without an audience.
URL:https://powercreativestl.com/event/love-in-action-church-without-walls/2025-04-26/
LOCATION:WEvent Space\, 3221 Oak Hill Ave\, St. Louis\, MO\, 63116\, United States
ATTACH;FMTTYPE=image/png:https://powercreativestl.com/wp-content/uploads/2025/04/LIA-flyer.png
END:VEVENT
END:VCALENDAR