BEGIN:VCALENDAR
VERSION:2.0
PRODID:-//Power Creative - ECPv6.15.20//NONSGML v1.0//EN
CALSCALE:GREGORIAN
METHOD:PUBLISH
X-WR-CALNAME:Power Creative
X-ORIGINAL-URL:https://powercreativestl.com
X-WR-CALDESC:Events for Power Creative
REFRESH-INTERVAL;VALUE=DURATION:PT1H
X-Robots-Tag:noindex
X-PUBLISHED-TTL:PT1H
BEGIN:VTIMEZONE
TZID:America/Chicago
BEGIN:DAYLIGHT
TZOFFSETFROM:-0600
TZOFFSETTO:-0500
TZNAME:CDT
DTSTART:20250309T080000
END:DAYLIGHT
BEGIN:STANDARD
TZOFFSETFROM:-0500
TZOFFSETTO:-0600
TZNAME:CST
DTSTART:20251102T070000
END:STANDARD
BEGIN:DAYLIGHT
TZOFFSETFROM:-0600
TZOFFSETTO:-0500
TZNAME:CDT
DTSTART:20260308T080000
END:DAYLIGHT
BEGIN:STANDARD
TZOFFSETFROM:-0500
TZOFFSETTO:-0600
TZNAME:CST
DTSTART:20261101T070000
END:STANDARD
BEGIN:DAYLIGHT
TZOFFSETFROM:-0600
TZOFFSETTO:-0500
TZNAME:CDT
DTSTART:20270314T080000
END:DAYLIGHT
BEGIN:STANDARD
TZOFFSETFROM:-0500
TZOFFSETTO:-0600
TZNAME:CST
DTSTART:20271107T070000
END:STANDARD
END:VTIMEZONE
BEGIN:VEVENT
DTSTART;TZID=America/Chicago:20260508T120000
DTEND;TZID=America/Chicago:20260508T170000
DTSTAMP:20260424T033947
CREATED:20260312T135900Z
LAST-MODIFIED:20260312T135905Z
UID:10001815-1778241600-1778259600@powercreativestl.com
SUMMARY:Private Event in the WEvent Space
DESCRIPTION:The WEvent Space is reserved at this time for a Private Event. \n\n\n\nPlease come visit us at another time\, or Use the WEvent Space for an event of your own!
URL:https://powercreativestl.com/event/private-event-in-the-wevent-space-12/
ATTACH;FMTTYPE=image/png:https://powercreativestl.com/wp-content/uploads/2025/10/Private-Event-Banner.png
END:VEVENT
BEGIN:VEVENT
DTSTART;TZID=America/Chicago:20260508T183000
DTEND;TZID=America/Chicago:20260508T203000
DTSTAMP:20260424T033947
CREATED:20260305T181314Z
LAST-MODIFIED:20260319T145709Z
UID:10001820-1778265000-1778272200@powercreativestl.com
SUMMARY:Open Mic Night
DESCRIPTION:Every month on the 2nd Friday\, join us for our FREE Open Mic Night at the Power Creative WEvent Space\, presented in collaboration with Compton Heights Christian Church. \n\n\n\nWhether you’ve got a song in your heart\, a joke up your sleeve\, or a story that’s been racing around your mind\, we’ve got an open mic with your name on it. Express yourself. \n\n\n\nNot a performer? Come root for your neighbors; drop in and grab a drink; it’s not an open mic without an audience. \n\n\n\n\n\n\n\n\nGuarantee your spot at the mic: Sign-Up Here\n\n\n\n\n\n\n\n\nSign-up is not required but it is appreciated!
URL:https://powercreativestl.com/event/open-mic-night-3/2026-05-08/
ATTACH;FMTTYPE=image/jpeg:https://powercreativestl.com/wp-content/uploads/2025/11/Open-Mic-v1-scaled.jpg
END:VEVENT
END:VCALENDAR