BEGIN:VCALENDAR
VERSION:2.0
PRODID:-//Power Creative - ECPv6.15.20//NONSGML v1.0//EN
CALSCALE:GREGORIAN
METHOD:PUBLISH
X-ORIGINAL-URL:https://powercreativestl.com
X-WR-CALDESC:Events for Power Creative
REFRESH-INTERVAL;VALUE=DURATION:PT1H
X-Robots-Tag:noindex
X-PUBLISHED-TTL:PT1H
BEGIN:VTIMEZONE
TZID:America/Chicago
BEGIN:DAYLIGHT
TZOFFSETFROM:-0600
TZOFFSETTO:-0500
TZNAME:CDT
DTSTART:20250309T080000
END:DAYLIGHT
BEGIN:STANDARD
TZOFFSETFROM:-0500
TZOFFSETTO:-0600
TZNAME:CST
DTSTART:20251102T070000
END:STANDARD
BEGIN:DAYLIGHT
TZOFFSETFROM:-0600
TZOFFSETTO:-0500
TZNAME:CDT
DTSTART:20260308T080000
END:DAYLIGHT
BEGIN:STANDARD
TZOFFSETFROM:-0500
TZOFFSETTO:-0600
TZNAME:CST
DTSTART:20261101T070000
END:STANDARD
BEGIN:DAYLIGHT
TZOFFSETFROM:-0600
TZOFFSETTO:-0500
TZNAME:CDT
DTSTART:20270314T080000
END:DAYLIGHT
BEGIN:STANDARD
TZOFFSETFROM:-0500
TZOFFSETTO:-0600
TZNAME:CST
DTSTART:20271107T070000
END:STANDARD
END:VTIMEZONE
BEGIN:VEVENT
DTSTART;TZID=America/Chicago:20260425T090000
DTEND;TZID=America/Chicago:20260425T120000
DTSTAMP:20260424T021843
CREATED:20260305T174223Z
LAST-MODIFIED:20260330T222141Z
UID:10001811-1777107600-1777118400@powercreativestl.com
SUMMARY:In the Spirit - Meditation Session
DESCRIPTION:All are welcome\,Donations Accpeted.\n\n\n\n\n\n\n\n\n\n\n\nTHE EVENT\n\n\n\nEach month\, on the 4th Saturday morning\, join spiritual guide Mary Elizabeth Grimes and meditation leader Sandra J. Jackson\, for a guided meditation experience at Power Creative. This session draws on God’s wisdom to create space for rest\, reflection\, and spiritual growth. \n\n\n\nParticipants are encouraged to wear comfortable clothing and bring anything that helps them relax and settle in: mat\, blanket\, pillows\, etc. Come prepared to slow down\, center yourself\, and connect in a peaceful\, supportive environment. \n\n\n\nTHE HOSTS\n\n\n\nMary Elizabeth Grimes is an St. Louis based entrepreneur\, business leader\, and president of Marian Middle School. Throughout her career\, she has combined business leadership with a deep commitment to spiritual formation\, mentorship\, and service. In her role as spiritual guide for In the Spirit\, Mary Elizabeth brings a wealth of wisdom\, reflection\, and experience to create an environment of faith and purposeful living. Under her gentle direction\, participants are empowered to connect and grow through meditation and the wisdom of God. \n\n\n\nSandra J. Jackson is a St. Louis–based meditation practitioner and holistic wellness guide dedicated to helping others cultivate peace\, clarity\, and spiritual balance. As Meditation Leader for In the Spirit\, Sandra creates a calm and welcoming space where participants can deepen their awareness and experience the restorative power of meditation. \n\n\n\nTHE SPACE\n\n\n\nThe WEvent Space is a distinctive venue located in the heart of the Tower Grove South neighborhood\, set within a beautifully restored church. Embracing the spirit of its historic roots\, the space provides a laid-back\, welcoming setting for a wide array of local live acts. Central to its mission is the WEConcert Series—an ongoing effort to reestablish the former church as a vibrant hub and gathering place for the community. Through music\, art\, and connection\, WEvent Space invites all to be part of a shared creative experience in one of the neighborhood’s most unique venues. \n\n\n\n\n\n\n\nShare this WEvent \n\n\n\n   Facebook   Twitter   Messenger   Reddit   Gmail\n\n\n\n\n\nNo tickets required. Our doors are open!Donations accepted. \n\n\n\n\n\n\n\n\n\nWEvent FAQs \n\n\n\n\n\n\n\n\n\n\nWhat is the parking situation?\nWe have a small private parking lot on Humphry\, just West of the main building\, and plenty of free street parking around us. \n\n\n\n\nIs there an easy way to keep up with all of the concerts at the WEvent Space?\nIn fact\, there are several! We keep our events updated on our Calendar\, Songkick\, Eventbrite\, Facebook\, and our Monthly Newsletter. \n\n\n\n\nIs the WEvent Space available to rent for private parties or special occasions?\nAbsolutely! We have accommodated all kinds of events\, from choir practice\, to board meetings\, to luncheons\, to yoga classes. You name it\, one of our spaces is bound to fit your needs. Learn more on our website\, here. \n\n\n\n\n\n\n\n\n\n\n\n\n\nThe WEvent Space is reserved at this time for a Private Event. Please come visit us at another time\, or Use the WEvent Space for an event of your own!
URL:https://powercreativestl.com/event/in-the-spirit-meditation-session/2026-04-25/
ATTACH;FMTTYPE=image/jpeg:https://powercreativestl.com/wp-content/uploads/2026/03/In-the-Spirit-Chicklet-v1-scaled.jpg
END:VEVENT
END:VCALENDAR