BEGIN:VCALENDAR
VERSION:2.0
PRODID:-//Power Creative - ECPv6.15.20//NONSGML v1.0//EN
CALSCALE:GREGORIAN
METHOD:PUBLISH
X-ORIGINAL-URL:https://powercreativestl.com
X-WR-CALDESC:Events for Power Creative
REFRESH-INTERVAL;VALUE=DURATION:PT1H
X-Robots-Tag:noindex
X-PUBLISHED-TTL:PT1H
BEGIN:VTIMEZONE
TZID:America/Chicago
BEGIN:DAYLIGHT
TZOFFSETFROM:-0600
TZOFFSETTO:-0500
TZNAME:CDT
DTSTART:20250309T080000
END:DAYLIGHT
BEGIN:STANDARD
TZOFFSETFROM:-0500
TZOFFSETTO:-0600
TZNAME:CST
DTSTART:20251102T070000
END:STANDARD
BEGIN:DAYLIGHT
TZOFFSETFROM:-0600
TZOFFSETTO:-0500
TZNAME:CDT
DTSTART:20260308T080000
END:DAYLIGHT
BEGIN:STANDARD
TZOFFSETFROM:-0500
TZOFFSETTO:-0600
TZNAME:CST
DTSTART:20261101T070000
END:STANDARD
BEGIN:DAYLIGHT
TZOFFSETFROM:-0600
TZOFFSETTO:-0500
TZNAME:CDT
DTSTART:20270314T080000
END:DAYLIGHT
BEGIN:STANDARD
TZOFFSETFROM:-0500
TZOFFSETTO:-0600
TZNAME:CST
DTSTART:20271107T070000
END:STANDARD
END:VTIMEZONE
BEGIN:VEVENT
DTSTART;TZID=America/Chicago:20260405T110000
DTEND;TZID=America/Chicago:20260405T120000
DTSTAMP:20260424T021800
CREATED:20251110T194206Z
LAST-MODIFIED:20251110T224723Z
UID:10001501-1775386800-1775390400@powercreativestl.com
SUMMARY:Compton Heights Christian Church - Worship Service
DESCRIPTION:Sanctuary Worship   11:00AM\n\n\n\n\n\n\n\n\nWorship is always contemporary in content\, with a traditional style: \n\n\n\n\n\n\n\n\n\n\n\n\nWe sing our faith. Music is a vital part of worship\, with great congregational singing\, and a choir that sings the faith through classics\, contemporary pieces\, spirituals\, and world Christian music such at that of Iona and Taizé.\n\n\n\n\n\nThe liturgy is ‘the work of the people\,’ so everyone is involved! Leaders are lay and ordained. The congregation is engaged through readings\, prayers\, and responses.\n\n\n\n\n\nThe Prayers of the People include prayer for our world\, community\, and for those dear to us.\n\n\n\n\n\nWe worship through the seasons of the Christian year: Advent\, Christmas\, Epiphany\, Lent\, Easter\, Pentecost\, and Ordinary Time.\n\n\n\n\n\n\n\n\n\n\n\n\n\n\n\n\n\n\n\n\n\n\n\n\n\n\n“Children\, Worship & Wonder”\n\n\n\n\nAfter the children’s moment\, children who want to participate\, are invited to leave the sanctuary to participate in Worship and Wonder.In Worship and Wonder the children experience hands-on stories from the bible.  There is singing and children and leaders share the Great Feast\, pray\, and receive a blessing. The Worship and Wonder room is located on the same level as the Sanctuary\, next to the kitchenette. \n\n\n\n\n\n\n\n\n\n\n\n\n\n\n\n\n\n\n\n\n\n\n\n\nAfter-Worship Fellowship Time\n\n\n\nImmediately following worship in the church library. Everyone is welcome. This is a time for fellowship and a chance visit and get to know each other better. Members of the congregation provide snacks for this community time each Sunday.
URL:https://powercreativestl.com/event/compton-heights-christian-church-worship-service-5/2026-04-05/
ATTACH;FMTTYPE=image/jpeg:https://powercreativestl.com/wp-content/uploads/2025/10/Compton-Heights-Logo-October-25-scaled.jpg
END:VEVENT
BEGIN:VEVENT
DTSTART;TZID=America/Chicago:20260405T133000
DTEND;TZID=America/Chicago:20260405T151500
DTSTAMP:20260424T021800
CREATED:20251110T195112Z
LAST-MODIFIED:20251110T225006Z
UID:10000386-1775395800-1775402100@powercreativestl.com
SUMMARY:Kingdom Resource Youth & Family Ministries – Worship Service
DESCRIPTION:All are welcome! \n\n\n\n\n\n\n\n\n\n\n\n\nPlease join us for Discipleship\, Preaching\, Teaching and Worshiping\, from a Christ centered and biblical foundation with a focus on empowerment of youth and building strong families.KRYFOM is geared to empower youth and to strengthen community families with discipleship\, teaching and preaching with emphasis of knowing their purpose according to the Word of God.Target Audience:Every man\, woman\, boy and girl from the young to the more mature\, emphasis on ages 12 to early 40’s\, but not limited to those ages. \n\n\n\n\n\n\n\n\n\n\n\n\n\n\n\n\n\n\nActivities:Sunday Worship ServicesRevivals\, Teaching & PreachingWorkshops
URL:https://powercreativestl.com/event/kingdom-resource-youth-family-ministries-worship-service-9/2026-04-05/
ATTACH;FMTTYPE=image/jpeg:https://powercreativestl.com/wp-content/uploads/2025/10/Kingdom-Resource-Logo-scaled.jpg
END:VEVENT
END:VCALENDAR