BEGIN:VCALENDAR
VERSION:2.0
PRODID:-//Power Creative - ECPv6.15.20//NONSGML v1.0//EN
CALSCALE:GREGORIAN
METHOD:PUBLISH
X-ORIGINAL-URL:https://powercreativestl.com
X-WR-CALDESC:Events for Power Creative
REFRESH-INTERVAL;VALUE=DURATION:PT1H
X-Robots-Tag:noindex
X-PUBLISHED-TTL:PT1H
BEGIN:VTIMEZONE
TZID:America/Chicago
BEGIN:DAYLIGHT
TZOFFSETFROM:-0600
TZOFFSETTO:-0500
TZNAME:CDT
DTSTART:20250309T080000
END:DAYLIGHT
BEGIN:STANDARD
TZOFFSETFROM:-0500
TZOFFSETTO:-0600
TZNAME:CST
DTSTART:20251102T070000
END:STANDARD
BEGIN:DAYLIGHT
TZOFFSETFROM:-0600
TZOFFSETTO:-0500
TZNAME:CDT
DTSTART:20260308T080000
END:DAYLIGHT
BEGIN:STANDARD
TZOFFSETFROM:-0500
TZOFFSETTO:-0600
TZNAME:CST
DTSTART:20261101T070000
END:STANDARD
BEGIN:DAYLIGHT
TZOFFSETFROM:-0600
TZOFFSETTO:-0500
TZNAME:CDT
DTSTART:20270314T080000
END:DAYLIGHT
BEGIN:STANDARD
TZOFFSETFROM:-0500
TZOFFSETTO:-0600
TZNAME:CST
DTSTART:20271107T070000
END:STANDARD
END:VTIMEZONE
BEGIN:VEVENT
DTSTART;TZID=America/Chicago:20260320T193000
DTEND;TZID=America/Chicago:20260320T213000
DTSTAMP:20260424T034156
CREATED:20260225T184057Z
LAST-MODIFIED:20260316T203157Z
UID:10001799-1774035000-1774042200@powercreativestl.com
SUMMARY:WEConcert - James Ibur & Company
DESCRIPTION:$10 General Admission\n\n\n\n\n\n\n\n\n\n\n\nTHE SHOW\n\n\n\nJoin us for this month’s concert with the talented singer-songwriter James Ibur\, accompanied by a retinue of different local musicians playing different instruments and genres. This set is never the same twice!This month\, James is joined on stage by special guests Devon Cahill and Danny Hommes. \n\n\n\nTHE ARTISTS\n\n\n\nJames Ibur is a multi-disciplinary visual artist\, professor\, and songwriter\, as well as frontman for the St. Louis rock alt-rock band Flying House. His heartfelt\, guitar-driven style pulls influences from blues\, rock\, folk\, and country to create a sound all his own. \n\n\n\nDevon Cahill made her professional debut at age 6 in a three-month run of “The Sound of Music.” In 2012 she shifted gears from musical theatre and formed the indie folk band Letter to Memphis—which quickly became a local favorite—playing at venues and major cultural events all over town and winning Best Folk Band from The Riverfront Times two years in a row. In 2017\, Cahill ventured out as a solo artist\, debuting her first solo EP\, entitled “When I Wake.”  Her rootsy songwriting style is a hybrid of Americana\, indie and folk music. When not performing solo\, Devon leads a band with David Newmann\, and Simon Chervitz. They have opened for touring artists such as Erika Wennerstrom (Heartless Bastards)\, Amythyst Kiah\, two time Tony Award winner Norbert Leo Butz\, and The Local Honeys. Their debut album is currently in the works!  \n\n\n\nDanny Hommes is a drummer and songwriter from St. Louis who has performed and collaborated with numerous bands across the region\, including Aviation Club\, Bellyfeel\, Three Merry Widows\, Karate Bikini\, and most recently Flying House. Hommes has appeared at major local events like LouFest and contributed to more than a dozen albums. His songwriting blends humor\, romance\, and the occasional touch of mortality: a style he first developed in the 1990s as the primary songwriter for Don’t Tell Ginger. Outside of music\, Danny runs Pixelography\, a digital imaging studio\, and is a two-time NAPP Photoshop Guru Award winner. More at https://linktr.ee/dannyhommes. \n\n\n\nTHE SPACE\n\n\n\nThe WEvent Space is a distinctive venue located in the heart of the Tower Grove South neighborhood\, set within a beautifully restored church. Embracing the spirit of its historic roots\, the space provides a laid-back\, welcoming setting for a wide array of local live acts. Central to its mission is the WEConcert Series—an ongoing effort to reestablish the former church as a vibrant hub and gathering place for the community. Through music\, art\, and connection\, WEvent Space invites all to be part of a shared creative experience in one of the neighborhood’s most unique venues. \n\n\n\n\n\n\n\nShare this WEvent \n\n\n\n   Facebook   Twitter   Messenger   Reddit   Gmail\n\n\n\n\n\nTICKETS $10Also available at the door with Cash or Venmo. \n\n\n\n\n\n\n				\n				\n				\n				\n				\n				\n				\n				\n				\n				\n				\n				\n				\n				\n				\n				\n				\n				\n\n\n\n\n			\n			\n				\n				\n				\n				\n			\n				\n				\n			\n\n\n\n\n\nWEvent FAQs \n\n\n\n\n\n\n\n\n\n\nWill there be drinks available at the event?\nYes\, we have a small bar in-house offering a variety of beverages. \n\n\n\n\nWhat is the parking situation?\nWe have a small private parking lot on Humphry\, just West of the main building\, and plenty of free street parking around us. \n\n\n\n\nIs there an easy way to keep up with all of the concerts at the WEvent Space?\nIn fact\, there are several! We keep our events updated on our Calendar\, Songkick\, Eventbrite\, Facebook\, and our Monthly Newsletter. \n\n\n\n\nIs the WEvent Space available to rent for private parties or special occasions?\nAbsolutely! We have accommodated all kinds of events\, from choir practice\, to board meetings\, to luncheons\, to yoga classes. You name it\, one of our spaces is bound to fit your needs. Learn more on our website\, here. \n\n\n\n\n\n\n\n\n\n\n\n\n\nThe WEvent Space is reserved at this time for a Private Event. Please come visit us at another time\, or Use the WEvent Space for an event of your own!
URL:https://powercreativestl.com/event/james-ibur-march/
CATEGORIES:WEConcert
ATTACH;FMTTYPE=image/jpeg:https://powercreativestl.com/wp-content/uploads/2025/07/Ibur-CoCo.jpg
END:VEVENT
END:VCALENDAR