BEGIN:VCALENDAR
VERSION:2.0
PRODID:-//Power Creative - ECPv6.15.20//NONSGML v1.0//EN
CALSCALE:GREGORIAN
METHOD:PUBLISH
X-ORIGINAL-URL:https://powercreativestl.com
X-WR-CALDESC:Events for Power Creative
REFRESH-INTERVAL;VALUE=DURATION:PT1H
X-Robots-Tag:noindex
X-PUBLISHED-TTL:PT1H
BEGIN:VTIMEZONE
TZID:America/Chicago
BEGIN:DAYLIGHT
TZOFFSETFROM:-0600
TZOFFSETTO:-0500
TZNAME:CDT
DTSTART:20250309T080000
END:DAYLIGHT
BEGIN:STANDARD
TZOFFSETFROM:-0500
TZOFFSETTO:-0600
TZNAME:CST
DTSTART:20251102T070000
END:STANDARD
BEGIN:DAYLIGHT
TZOFFSETFROM:-0600
TZOFFSETTO:-0500
TZNAME:CDT
DTSTART:20260308T080000
END:DAYLIGHT
BEGIN:STANDARD
TZOFFSETFROM:-0500
TZOFFSETTO:-0600
TZNAME:CST
DTSTART:20261101T070000
END:STANDARD
BEGIN:DAYLIGHT
TZOFFSETFROM:-0600
TZOFFSETTO:-0500
TZNAME:CDT
DTSTART:20270314T080000
END:DAYLIGHT
BEGIN:STANDARD
TZOFFSETFROM:-0500
TZOFFSETTO:-0600
TZNAME:CST
DTSTART:20271107T070000
END:STANDARD
END:VTIMEZONE
BEGIN:VEVENT
DTSTART;TZID=America/Chicago:20260314T140000
DTEND;TZID=America/Chicago:20260314T160000
DTSTAMP:20260424T034154
CREATED:20260306T152037Z
LAST-MODIFIED:20260306T152327Z
UID:10001813-1773496800-1773504000@powercreativestl.com
SUMMARY:Tea with Missouri House Rep. Lilly Fuchs
DESCRIPTION:Join in for afternoon tea\, vegan scones\, and an update from District 80 (Tower Grove South and immediate area) Representative Lilly Fuchs. Sip some tea\, learn what’s going on\, and better yet\, learn how we can help. \n\n\n\nSpace is limited\, RSVP at: https://bit.ly/TeaWithLilly
URL:https://powercreativestl.com/event/tea-with-missouri-house-rep-lilly-fuchs/
ATTACH;FMTTYPE=image/png:https://powercreativestl.com/wp-content/uploads/2026/03/Tea-with-Rep.-Lily-Fuchs-e1772810593884.png
END:VEVENT
BEGIN:VEVENT
DTSTART;TZID=America/Chicago:20260314T190000
DTEND;TZID=America/Chicago:20260314T220000
DTSTAMP:20260424T034154
CREATED:20260209T193657Z
LAST-MODIFIED:20260209T193703Z
UID:10001795-1773514800-1773525600@powercreativestl.com
SUMMARY:Private Event in the WEvent Space
DESCRIPTION:The WEvent Space is reserved at this time for a Private Event. \n\n\n\nPlease come visit us at another time\, or Rent the WEvent Space for an event of your own!
URL:https://powercreativestl.com/event/private-event-in-the-wevent-space-6/
ATTACH;FMTTYPE=image/png:https://powercreativestl.com/wp-content/uploads/2025/10/Private-Event-Banner.png
END:VEVENT
END:VCALENDAR