BEGIN:VCALENDAR
VERSION:2.0
PRODID:-//Power Creative - ECPv6.15.20//NONSGML v1.0//EN
CALSCALE:GREGORIAN
METHOD:PUBLISH
X-WR-CALNAME:Power Creative
X-ORIGINAL-URL:https://powercreativestl.com
X-WR-CALDESC:Events for Power Creative
REFRESH-INTERVAL;VALUE=DURATION:PT1H
X-Robots-Tag:noindex
X-PUBLISHED-TTL:PT1H
BEGIN:VTIMEZONE
TZID:America/Chicago
BEGIN:DAYLIGHT
TZOFFSETFROM:-0600
TZOFFSETTO:-0500
TZNAME:CDT
DTSTART:20250309T080000
END:DAYLIGHT
BEGIN:STANDARD
TZOFFSETFROM:-0500
TZOFFSETTO:-0600
TZNAME:CST
DTSTART:20251102T070000
END:STANDARD
BEGIN:DAYLIGHT
TZOFFSETFROM:-0600
TZOFFSETTO:-0500
TZNAME:CDT
DTSTART:20260308T080000
END:DAYLIGHT
BEGIN:STANDARD
TZOFFSETFROM:-0500
TZOFFSETTO:-0600
TZNAME:CST
DTSTART:20261101T070000
END:STANDARD
BEGIN:DAYLIGHT
TZOFFSETFROM:-0600
TZOFFSETTO:-0500
TZNAME:CDT
DTSTART:20270314T080000
END:DAYLIGHT
BEGIN:STANDARD
TZOFFSETFROM:-0500
TZOFFSETTO:-0600
TZNAME:CST
DTSTART:20271107T070000
END:STANDARD
END:VTIMEZONE
BEGIN:VEVENT
DTSTART;TZID=America/Chicago:20260308T110000
DTEND;TZID=America/Chicago:20260308T120000
DTSTAMP:20260424T034045
CREATED:20251110T194206Z
LAST-MODIFIED:20251110T224723Z
UID:10001497-1772967600-1772971200@powercreativestl.com
SUMMARY:Compton Heights Christian Church - Worship Service
DESCRIPTION:Sanctuary Worship   11:00AM\n\n\n\n\n\n\n\n\nWorship is always contemporary in content\, with a traditional style: \n\n\n\n\n\n\n\n\n\n\n\n\nWe sing our faith. Music is a vital part of worship\, with great congregational singing\, and a choir that sings the faith through classics\, contemporary pieces\, spirituals\, and world Christian music such at that of Iona and Taizé.\n\n\n\n\n\nThe liturgy is ‘the work of the people\,’ so everyone is involved! Leaders are lay and ordained. The congregation is engaged through readings\, prayers\, and responses.\n\n\n\n\n\nThe Prayers of the People include prayer for our world\, community\, and for those dear to us.\n\n\n\n\n\nWe worship through the seasons of the Christian year: Advent\, Christmas\, Epiphany\, Lent\, Easter\, Pentecost\, and Ordinary Time.\n\n\n\n\n\n\n\n\n\n\n\n\n\n\n\n\n\n\n\n\n\n\n\n\n\n\n“Children\, Worship & Wonder”\n\n\n\n\nAfter the children’s moment\, children who want to participate\, are invited to leave the sanctuary to participate in Worship and Wonder.In Worship and Wonder the children experience hands-on stories from the bible.  There is singing and children and leaders share the Great Feast\, pray\, and receive a blessing. The Worship and Wonder room is located on the same level as the Sanctuary\, next to the kitchenette. \n\n\n\n\n\n\n\n\n\n\n\n\n\n\n\n\n\n\n\n\n\n\n\n\nAfter-Worship Fellowship Time\n\n\n\nImmediately following worship in the church library. Everyone is welcome. This is a time for fellowship and a chance visit and get to know each other better. Members of the congregation provide snacks for this community time each Sunday.
URL:https://powercreativestl.com/event/compton-heights-christian-church-worship-service-5/2026-03-08/
ATTACH;FMTTYPE=image/jpeg:https://powercreativestl.com/wp-content/uploads/2025/10/Compton-Heights-Logo-October-25-scaled.jpg
END:VEVENT
BEGIN:VEVENT
DTSTART;TZID=America/Chicago:20260308T150000
DTEND;TZID=America/Chicago:20260308T160000
DTSTAMP:20260424T034045
CREATED:20251217T194235Z
LAST-MODIFIED:20260302T162006Z
UID:10001780-1772982000-1772985600@powercreativestl.com
SUMMARY:Music Brings Us Together
DESCRIPTION:FREEGeneral Admission\n\n\n\n\n\n\n\n\n\n\n\nTHE SHOW\n\n\n\nMusic Brings Us Together is a special concert presented by Power Creative in collaboration with Arts & Faith St. Louis\, celebrating the power of music to enrich our lives and bring people together. This one-of-a-kind evening features performances by Grammy Award–winning soprano Christine Brewer\, as well as renowned St. Louis natives\, soprano Angel Love\, tenor David McKenzie\, and pianist Alla Voskoboynikova. Whether you are immersed in the world of opera or new to the scene\, this show is sure to impress. \n\n\n\nTHE ARTISTS\n\n\n\nChristine Brewer\, soprano:Grammy Award-winning soprano Christine Brewer’s was named one of the top 20 sopranos of all time by BBC Music. She began her career at Opera Theatre of St. Louis and has gone on to sing with the Metropolitan Opera\, Lyric Opera of Chicago\, Paris Opera\, Santa Fe Opera\, the St. Louis Symphony\, the New York Philharmonic\, and many other opera companies and orchestras around the world. \n\n\n\nAngel Love\, soprano:A native of Belleville\, Illinois\, soprano Angel Love attended DePauw University and received a Master of Music in vocal performance from UCLA where she sang leading roles in opera and was the soprano soloist in Leonard Bernstein’s Songfest for the Los Angeles Bernstein Centennial Celebration. With Opera Theatre of St. Louis\, she sang the role of Papagena in Mozart’s “The Magic Flute.” \n\n\n\nDavid McKenzie\, tenor:A high school senior at Affton High School\, tenor David McKenzie is a member of The Sheldon All-Star Chorus\, was part of the Interfaith Youth Chorus that sang this past fall at the Interfaith Concert at the Sheldon Concert Hall\, and he is a member of the Missouri All-State Honor Choir. \n\n\n\nAlla Voskoboynikova\, pianist:Pianist Alla Voskoboynikova performs extensively as a soloist and a collaborator\, often accompanying members of the St. Louis Symphony Orchestra. Since 2004\, she has held the position of Director of Keyboard Studies at the University of Missouri-St. Louis. Before moving to the United States\, Alla was a pianist and coach at Kyiv Opera and Ball.et Theater in Ukraine and an accompanist at the Tchaikovsky Competition. \n\n\n\nTHE SPACE\n\n\n\nThe WEvent Space is a distinctive venue located in the heart of the Tower Grove South neighborhood\, set within a beautifully restored church. Embracing the spirit of its historic roots\, the space provides a laid-back\, welcoming setting for a wide array of local live acts. Central to its mission is the WEConcert Series—an ongoing effort to reestablish the former church as a vibrant hub and gathering place for the community. Through music\, art\, and connection\, WEvent Space invites all to be part of a shared creative experience in one of the neighborhood’s most unique venues. \n\n\n\n\n\n\n\nShare this WEvent \n\n\n\n   Facebook   Twitter   Messenger   Reddit   Gmail\n\n\n\n\n\nThis event is FREE to attend! \n\n\n\n\n\nWEvent FAQs \n\n\n\n\n\n\n\n\n\n\nWill there be food and drink available at the event?\nYes\, we have a small bar in-house offering a variety beverages and snacks. \n\n\n\n\nWhat is the parking situation?\nWe have a small private parking lot on Humphry\, just West of the main building\, and plenty of free street parking around us. \n\n\n\n\nIs there an easy way to keep up with all of the concerts at the WEvent Space?\nIn fact\, there are several! We keep our events updated on our Calendar\, Songkick\, Eventbrite\, Facebook\, and our Monthly Newsletter. \n\n\n\n\nIs the WEvent Space available to rent for private parties or special occasions?\nAbsolutely! We have accommodated all kinds of events\, from choir practice\, to board meetings\, to luncheons\, to yoga classes. You name it\, one of our spaces is bound to fit your needs. Learn more on our website\, here.
URL:https://powercreativestl.com/event/music-brings-us-together/
ATTACH;FMTTYPE=image/jpeg:https://powercreativestl.com/wp-content/uploads/2025/12/Music-Brings-Chicklet-v3.jpg
END:VEVENT
END:VCALENDAR