BEGIN:VCALENDAR
VERSION:2.0
PRODID:-//Power Creative - ECPv6.15.20//NONSGML v1.0//EN
CALSCALE:GREGORIAN
METHOD:PUBLISH
X-WR-CALNAME:Power Creative
X-ORIGINAL-URL:https://powercreativestl.com
X-WR-CALDESC:Events for Power Creative
REFRESH-INTERVAL;VALUE=DURATION:PT1H
X-Robots-Tag:noindex
X-PUBLISHED-TTL:PT1H
BEGIN:VTIMEZONE
TZID:America/Chicago
BEGIN:DAYLIGHT
TZOFFSETFROM:-0600
TZOFFSETTO:-0500
TZNAME:CDT
DTSTART:20250309T080000
END:DAYLIGHT
BEGIN:STANDARD
TZOFFSETFROM:-0500
TZOFFSETTO:-0600
TZNAME:CST
DTSTART:20251102T070000
END:STANDARD
BEGIN:DAYLIGHT
TZOFFSETFROM:-0600
TZOFFSETTO:-0500
TZNAME:CDT
DTSTART:20260308T080000
END:DAYLIGHT
BEGIN:STANDARD
TZOFFSETFROM:-0500
TZOFFSETTO:-0600
TZNAME:CST
DTSTART:20261101T070000
END:STANDARD
BEGIN:DAYLIGHT
TZOFFSETFROM:-0600
TZOFFSETTO:-0500
TZNAME:CDT
DTSTART:20270314T080000
END:DAYLIGHT
BEGIN:STANDARD
TZOFFSETFROM:-0500
TZOFFSETTO:-0600
TZNAME:CST
DTSTART:20271107T070000
END:STANDARD
END:VTIMEZONE
BEGIN:VEVENT
DTSTART;TZID=America/Chicago:20260227T190000
DTEND;TZID=America/Chicago:20260227T210000
DTSTAMP:20260424T035141
CREATED:20251219T182944Z
LAST-MODIFIED:20260218T185403Z
UID:10001783-1772218800-1772226000@powercreativestl.com
SUMMARY:[Updated] WEconcert - Erin Bode with Marco Grillo
DESCRIPTION:$25General Admission\n\n\n\n\n\n\n\n\n\n\n\nTHE SHOW\n\n\n\nCombining the pure\, crystal-clear vocals of Erin Bode with the nuanced jazz artistry of guitarist Marco Grillo\, this duo delivers a sophisticated blend of jazz\, folk\, and Americana. Their collaboration strips away complex arrangements to highlight the intimate connection between a “bell-like” voice and the evocative strings of the guitar. \n\n\n\nTogether\, they offer a repertoire that ranges from Great American Songbook standards to original pieces rich in harmonic texture\, creating a “fresh\, subtle manner” of storytelling through song. \n\n\n\nTHE ARTISTS\n\n\n\nErin Bode studied music and foreign languages at the University of Minnesota and later graduated from Webster University\, where she studied vocal jazz and began launching her professional career. Shortly after graduating\, Bode released her debut album Requests\, which led to a recording contract with Maxjazz and national exposure through appearances on CBS’s Second Cup Café and A Prairie Home Companion. Over the past decade\, Bode and her band have released eight albums and toured extensively throughout the United States\, Europe\, Asia\, and Africa\, developing a sound rooted in Midwestern Americana and shaped by jazz\, pop\, and original songwriting. Currently\, Bode balances international touring\, recording\, and her personalized composition project YourSong\, which creates custom music for listeners. \n\n\n\nMarco Grillo studied music at the Conservatorio di Musica Scarlatti in Palermo\, where he quickly started collaborating with leading figures in the Sicilian jazz scene\, as well as studying under renowned musicians such as Barry Harris\, Kurt Rosenwinkel\, and Gilad Hekselman. In 2015\, Grillo earned recognition as a runner-up for the Vittorio Rotary Jazz Award. Currently\, Grillo splits his time between leading a regular jazz workshop at Tatum Art Jazz Club in Palermo\, Italy and performing internationally alongside jazz greats such as Taylor Eigsti\, Stjepko Gut\, and Francesco Cafiso. He first joined forces with Erin Bode in 2020 and has since become a frequent collaborator\, the duo performing together at prestigious jazz venues across the United States\, Italy\, and the United Kingdom. \n\n\n\nTHE SPACE\n\n\n\nThe WEvent Space is a distinctive venue located in the heart of the Tower Grove South neighborhood\, set within a beautifully restored church. Embracing the spirit of its historic roots\, the space provides a laid-back\, welcoming setting for a wide array of local live acts. Central to its mission is the WEConcert Series—an ongoing effort to reestablish the former church as a vibrant hub and gathering place for the community. Through music\, art\, and connection\, WEvent Space invites all to be part of a shared creative experience in one of the neighborhood’s most unique venues. \n\n\n\n\n\n\n\nShare this WEvent \n\n\n\n   Facebook   Twitter   Messenger   Reddit   Gmail\n\n\n\n\n\nTICKETS $25*Plus taxes and fees. \n\n\n\n\n\n\n				\n				\n				\n				\n				\n				\n				\n				\n				\n				\n				\n				\n				\n				\n				\n				\n				\n				\n\n\n\n\n\n			\n			\n				\n				\n				\n				\n			\n				\n				\n			\n\n\n\n\n\nWEvent FAQs \n\n\n\n\n\n\n\n\n\n\nWill there be food and drink available at the event?\nYes\, we have a small bar in-house offering a variety beverages and snacks. \n\n\n\n\nWhat is the parking situation?\nWe have a small private parking lot on Humphry\, just West of the main building\, and plenty of free street parking around us. \n\n\n\n\nIs there an easy way to keep up with all of the concerts at the WEvent Space?\nIn fact\, there are several! We keep our events updated on our Calendar\, Songkick\, Eventbrite\, Facebook\, and our Monthly Newsletter. \n\n\n\n\nIs the WEvent Space available to rent for private parties or special occasions?\nAbsolutely! We have accommodated all kinds of events\, from choir practice\, to board meetings\, to luncheons\, to yoga classes. You name it\, one of our spaces is bound to fit your needs. Learn more on our website\, here. \n\n\n\n\n\n\n\n\n\n\n\n\n\nThe WEvent Space is reserved at this time for a Private Event. Please come visit us at another time\, or Use the WEvent Space for an event of your own!
URL:https://powercreativestl.com/event/erin-and-marco-friday/
ATTACH;FMTTYPE=image/jpeg:https://powercreativestl.com/wp-content/uploads/2025/12/Erin-Bode-Chicklet-Friday-v2.jpg
END:VEVENT
END:VCALENDAR