BEGIN:VCALENDAR
VERSION:2.0
PRODID:-//Power Creative - ECPv6.15.20//NONSGML v1.0//EN
CALSCALE:GREGORIAN
METHOD:PUBLISH
X-WR-CALNAME:Power Creative
X-ORIGINAL-URL:https://powercreativestl.com
X-WR-CALDESC:Events for Power Creative
REFRESH-INTERVAL;VALUE=DURATION:PT1H
X-Robots-Tag:noindex
X-PUBLISHED-TTL:PT1H
BEGIN:VTIMEZONE
TZID:America/Chicago
BEGIN:DAYLIGHT
TZOFFSETFROM:-0600
TZOFFSETTO:-0500
TZNAME:CDT
DTSTART:20250309T080000
END:DAYLIGHT
BEGIN:STANDARD
TZOFFSETFROM:-0500
TZOFFSETTO:-0600
TZNAME:CST
DTSTART:20251102T070000
END:STANDARD
BEGIN:DAYLIGHT
TZOFFSETFROM:-0600
TZOFFSETTO:-0500
TZNAME:CDT
DTSTART:20260308T080000
END:DAYLIGHT
BEGIN:STANDARD
TZOFFSETFROM:-0500
TZOFFSETTO:-0600
TZNAME:CST
DTSTART:20261101T070000
END:STANDARD
BEGIN:DAYLIGHT
TZOFFSETFROM:-0600
TZOFFSETTO:-0500
TZNAME:CDT
DTSTART:20270314T080000
END:DAYLIGHT
BEGIN:STANDARD
TZOFFSETFROM:-0500
TZOFFSETTO:-0600
TZNAME:CST
DTSTART:20271107T070000
END:STANDARD
END:VTIMEZONE
BEGIN:VEVENT
DTSTART;TZID=America/Chicago:20260221T193000
DTEND;TZID=America/Chicago:20260221T213000
DTSTAMP:20260424T050315
CREATED:20260212T210001Z
LAST-MODIFIED:20260212T211843Z
UID:10001793-1771702200-1771709400@powercreativestl.com
SUMMARY:WEconcert - Dr. Z & Friends
DESCRIPTION:FREE Show\n\n\n\n\n\n\n\n\n\n\n\nTHE SHOW\n\n\n\nSeasoned percussionist\, Dr. Z (Dr. Tom Zirkle)\, invades the WEvent Space with a lineup of talented local collaborators for what promises to be an improvisational night of live music and visual arts.This show is FREE to the community as part of our ongoing arts and culture night series. Swing by\, grab a drink\, and support local artists. \n\n\n\nTHE ARTISTS\n\n\n\nDr. Thomas Zirkle is a career percussionist\, composer\, and program coordinator/professor of music at STLCC-Forest Park.  \n\n\n\nIn his 40-year career\, Thomas has spent a considerable amount of time in Asia researching traditional percussion music\, culture\, language\, and intercultural exchanges. He uses this research to write instructional books on instruments from around the world\, including the riq from the Middle East\, congas\, marimba\, and frame drums. \n\n\n\nTHE SPACE\n\n\n\nThe WEvent Space is a distinctive venue located in the heart of the Tower Grove South neighborhood\, set within a beautifully restored church. Embracing the spirit of its historic roots\, the space provides a laid-back\, welcoming setting for a wide array of local live acts. Central to its mission is the WEConcert Series—an ongoing effort to reestablish the former church as a vibrant hub and gathering place for the community. Through music\, art\, and connection\, WEvent Space invites all to be part of a shared creative experience in one of the neighborhood’s most unique venues. \n\n\n\n\n\n\n\nShare this WEvent \n\n\n\n   Facebook   Twitter   Messenger   Reddit   Gmail\n\n\n\n\n\nWEvent FAQs \n\n\n\n\n\n\n\n\n\n\nWill there be drinks available at the event?\nYes\, we have a small bar in-house offering a variety of beverages. \n\n\n\n\nWhat is the parking situation?\nWe have a small private parking lot on Humphry\, just West of the main building\, and plenty of free street parking around us. \n\n\n\n\nIs there an easy way to keep up with all of the concerts at the WEvent Space?\nIn fact\, there are several! We keep our events updated on our Calendar\, Songkick\, Eventbrite\, Facebook\, and our Monthly Newsletter. \n\n\n\n\nIs the WEvent Space available to rent for private parties or special occasions?\nAbsolutely! We have accommodated all kinds of events\, from choir practice\, to board meetings\, to luncheons\, to yoga classes. You name it\, one of our spaces is bound to fit your needs. Learn more on our website\, here. \n\n\n\n\n\n\n\n\n\n\n\n\n\nThe WEvent Space is reserved at this time for a Private Event. Please come visit us at another time\, or Use the WEvent Space for an event of your own!
URL:https://powercreativestl.com/event/dr-z/
ATTACH;FMTTYPE=image/png:https://powercreativestl.com/wp-content/uploads/2026/02/Dr.-Z-Chicklet-v1-1.png
END:VEVENT
END:VCALENDAR