BEGIN:VCALENDAR
VERSION:2.0
PRODID:-//Power Creative - ECPv6.15.20//NONSGML v1.0//EN
CALSCALE:GREGORIAN
METHOD:PUBLISH
X-ORIGINAL-URL:https://powercreativestl.com
X-WR-CALDESC:Events for Power Creative
REFRESH-INTERVAL;VALUE=DURATION:PT1H
X-Robots-Tag:noindex
X-PUBLISHED-TTL:PT1H
BEGIN:VTIMEZONE
TZID:America/Chicago
BEGIN:DAYLIGHT
TZOFFSETFROM:-0600
TZOFFSETTO:-0500
TZNAME:CDT
DTSTART:20250309T080000
END:DAYLIGHT
BEGIN:STANDARD
TZOFFSETFROM:-0500
TZOFFSETTO:-0600
TZNAME:CST
DTSTART:20251102T070000
END:STANDARD
BEGIN:DAYLIGHT
TZOFFSETFROM:-0600
TZOFFSETTO:-0500
TZNAME:CDT
DTSTART:20260308T080000
END:DAYLIGHT
BEGIN:STANDARD
TZOFFSETFROM:-0500
TZOFFSETTO:-0600
TZNAME:CST
DTSTART:20261101T070000
END:STANDARD
BEGIN:DAYLIGHT
TZOFFSETFROM:-0600
TZOFFSETTO:-0500
TZNAME:CDT
DTSTART:20270314T080000
END:DAYLIGHT
BEGIN:STANDARD
TZOFFSETFROM:-0500
TZOFFSETTO:-0600
TZNAME:CST
DTSTART:20271107T070000
END:STANDARD
END:VTIMEZONE
BEGIN:VEVENT
DTSTART;TZID=America/Chicago:20260219T180000
DTEND;TZID=America/Chicago:20260219T200000
DTSTAMP:20260424T050636
CREATED:20260216T204444Z
LAST-MODIFIED:20260216T204845Z
UID:10001794-1771524000-1771531200@powercreativestl.com
SUMMARY:6th Ward Dems Meeting with Special Guest\, Collector of Revenue\, Gregory F.X. Daly
DESCRIPTION:All are welcome! Join the 6th Ward Democrats for their upcoming community meeting featuring special guest Gregory F.X. Daly\, Collector of Revenue for the City of St. Louis. Residents are invited to learn more about local revenue services and learn the latest details on issues impacting the 6th Ward and the broader community.This event is FREE and open to the public.
URL:https://powercreativestl.com/event/6th-ward-town-hall-with-alderwoman-velazquez-collector-of-revenue-gregory-f-x-daly/
ATTACH;FMTTYPE=image/png:https://powercreativestl.com/wp-content/uploads/2026/01/36FDED87-C667-43EC-AD6B-094A411B7F2B.png
END:VEVENT
END:VCALENDAR