BEGIN:VCALENDAR
VERSION:2.0
PRODID:-//Power Creative - ECPv6.15.20//NONSGML v1.0//EN
CALSCALE:GREGORIAN
METHOD:PUBLISH
X-ORIGINAL-URL:https://powercreativestl.com
X-WR-CALDESC:Events for Power Creative
REFRESH-INTERVAL;VALUE=DURATION:PT1H
X-Robots-Tag:noindex
X-PUBLISHED-TTL:PT1H
BEGIN:VTIMEZONE
TZID:America/Chicago
BEGIN:DAYLIGHT
TZOFFSETFROM:-0600
TZOFFSETTO:-0500
TZNAME:CDT
DTSTART:20250309T080000
END:DAYLIGHT
BEGIN:STANDARD
TZOFFSETFROM:-0500
TZOFFSETTO:-0600
TZNAME:CST
DTSTART:20251102T070000
END:STANDARD
BEGIN:DAYLIGHT
TZOFFSETFROM:-0600
TZOFFSETTO:-0500
TZNAME:CDT
DTSTART:20260308T080000
END:DAYLIGHT
BEGIN:STANDARD
TZOFFSETFROM:-0500
TZOFFSETTO:-0600
TZNAME:CST
DTSTART:20261101T070000
END:STANDARD
BEGIN:DAYLIGHT
TZOFFSETFROM:-0600
TZOFFSETTO:-0500
TZNAME:CDT
DTSTART:20270314T080000
END:DAYLIGHT
BEGIN:STANDARD
TZOFFSETFROM:-0500
TZOFFSETTO:-0600
TZNAME:CST
DTSTART:20271107T070000
END:STANDARD
END:VTIMEZONE
BEGIN:VEVENT
DTSTART;TZID=America/Chicago:20260214T200000
DTEND;TZID=America/Chicago:20260214T220000
DTSTAMP:20260424T052113
CREATED:20251218T231553Z
LAST-MODIFIED:20260204T222953Z
UID:10001782-1771099200-1771106400@powercreativestl.com
SUMMARY:All the Days: Album Release Party
DESCRIPTION:$15General Admission\n\n\n\n\n\n\n\n\n\n\n\nTHE SHOW\n\n\n\nJoin us for a not-so-Valentines release party for All the Days’ second full-length album “Rules We Follow.”The band will be performing songs from the new album and hits from years past. \n\n\n\nThe band will have physical copies of the new album for sale\, but you can preview it and purchase a digital copy HERE. \n\n\n\nTHE ARTIST\n\n\n\nAll the Days was born out of a desire to play music between two veteran songwriters and friends\, Danny Kathriner (Cave States\, Colonel Ford\, Wagon\, Half Knots) and Stephanie Stewart (Cave States). Both prolific songwriters\, they began sharing ideas at the beginning of 2022. The two recorded more than 30 songs\, taking turns singing lead vocals and adding layers of harmony to each. The project felt cathartic and exciting. In late 2022\, veteran guitarist\, Tony Estrada (Rough Shop\, Dangerous Kitchen\, Genevieve)\, was added to help round out the songs while layering beautiful tones and depth to the previous recordings. In early 2023 bassist Chuck Lindo (The American Professionals\, All Together Now) joined the group\, crafting creative bass lines and incorporating signature three-part harmonies. All members agree: creating music with people who share the same sensibilities to melody\, harmonies\, textures\, and dynamics is an extraordinary gift. Hearing it all come to fruition through song is a sublime enchantment. \n\n\n\nTHE SPACE\n\n\n\nThe WEvent Space is a distinctive venue located in the heart of the Tower Grove South neighborhood\, set within a beautifully restored church. Embracing the spirit of its historic roots\, the space provides a laid-back\, welcoming setting for a wide array of local live acts. Central to its mission is the WEConcert Series—an ongoing effort to reestablish the former church as a vibrant hub and gathering place for the community. Through music\, art\, and connection\, WEvent Space invites all to be part of a shared creative experience in one of the neighborhood’s most unique venues. \n\n\n\n\n\n\n\nShare this WEvent \n\n\n\n   Facebook   Twitter   Messenger   Reddit   Gmail\n\n\n\n\n\nTICKETS $15Available online or at the door with Cash or Venmo. \n\n\n\n\n\n\n				\n				\n				\n				\n				\n				\n				\n				\n				\n				\n				\n				\n				\n				\n				\n				\n				\n				\n\n\n\n\n\n			\n			\n				\n				\n				\n				\n			\n				\n				\n			\n\n\n\n\n\nWEvent FAQs \n\n\n\n\n\n\n\n\n\n\nWill there be food and drink available at the event?\nYes\, we have a small bar in-house offering a variety beverages and snacks. \n\n\n\n\nWhat is the parking situation?\nWe have a small private parking lot on Humphry\, just West of the main building\, and plenty of free street parking around us. \n\n\n\n\nIs there an easy way to keep up with all of the concerts at the WEvent Space?\nIn fact\, there are several! We keep our events updated on our Calendar\, Songkick\, Eventbrite\, Facebook\, and our Monthly Newsletter. \n\n\n\n\nIs the WEvent Space available to rent for private parties or special occasions?\nAbsolutely! We have accommodated all kinds of events\, from choir practice\, to board meetings\, to luncheons\, to yoga classes. You name it\, one of our spaces is bound to fit your needs. Learn more on our website\, here. \n\n\n\n\n\n\n\n\n\n\n\n\n\nThe WEvent Space is reserved at this time for a Private Event. Please come visit us at another time\, or Use the WEvent Space for an event of your own!
URL:https://powercreativestl.com/event/all-the-days/
ATTACH;FMTTYPE=image/png:https://powercreativestl.com/wp-content/uploads/2025/12/Stephanie-Stewart-Chicklet-v2.png
END:VEVENT
END:VCALENDAR