BEGIN:VCALENDAR
VERSION:2.0
PRODID:-//Power Creative - ECPv6.15.20//NONSGML v1.0//EN
CALSCALE:GREGORIAN
METHOD:PUBLISH
X-WR-CALNAME:Power Creative
X-ORIGINAL-URL:https://powercreativestl.com
X-WR-CALDESC:Events for Power Creative
REFRESH-INTERVAL;VALUE=DURATION:PT1H
X-Robots-Tag:noindex
X-PUBLISHED-TTL:PT1H
BEGIN:VTIMEZONE
TZID:America/Chicago
BEGIN:DAYLIGHT
TZOFFSETFROM:-0600
TZOFFSETTO:-0500
TZNAME:CDT
DTSTART:20240310T080000
END:DAYLIGHT
BEGIN:STANDARD
TZOFFSETFROM:-0500
TZOFFSETTO:-0600
TZNAME:CST
DTSTART:20241103T070000
END:STANDARD
BEGIN:DAYLIGHT
TZOFFSETFROM:-0600
TZOFFSETTO:-0500
TZNAME:CDT
DTSTART:20250309T080000
END:DAYLIGHT
BEGIN:STANDARD
TZOFFSETFROM:-0500
TZOFFSETTO:-0600
TZNAME:CST
DTSTART:20251102T070000
END:STANDARD
BEGIN:DAYLIGHT
TZOFFSETFROM:-0600
TZOFFSETTO:-0500
TZNAME:CDT
DTSTART:20260308T080000
END:DAYLIGHT
BEGIN:STANDARD
TZOFFSETFROM:-0500
TZOFFSETTO:-0600
TZNAME:CST
DTSTART:20261101T070000
END:STANDARD
END:VTIMEZONE
BEGIN:VEVENT
DTSTART;TZID=America/Chicago:20251227T153000
DTEND;TZID=America/Chicago:20251227T170000
DTSTAMP:20260424T085253
CREATED:20251110T195851Z
LAST-MODIFIED:20251224T152450Z
UID:10000017-1766849400-1766854800@powercreativestl.com
SUMMARY:Love in Action - Church without Walls
DESCRIPTION:All are welcome!\n\n\n\n\nPlease join us for our monthlymeet & greet style worship service. \n\n\n\n\n\n\n\n\n\n\n\n\n\n\n\n\nWHAT \n\n\n\nFellowship\, prayer and light refreshments \n\n\n\nWHEN \n\n\n\nEvery last Saturday of the month@ 3:30pm \n\n\n\nWHERE \n\n\n\n3221 Oak Hill Ave.\,St. Louis\, MO 63116 \n\n\n\nRSVP \n\n\n\nSed Robinson & Imani Robinson314-623-7393 | 314-809-7776 \n\n\n\n\n\n\n\n\n\n\n\n\n\n\n\nMORE INFOloveinactionstl.org
URL:https://powercreativestl.com/event/love-in-action-church-without-walls-3/2025-12-27/
ATTACH;FMTTYPE=image/png:https://powercreativestl.com/wp-content/uploads/2025/04/LOA-Logo-Horizontal-25-scaled.png
END:VEVENT
END:VCALENDAR