BEGIN:VCALENDAR
VERSION:2.0
PRODID:-//Power Creative - ECPv6.15.20//NONSGML v1.0//EN
CALSCALE:GREGORIAN
METHOD:PUBLISH
X-WR-CALNAME:Power Creative
X-ORIGINAL-URL:https://powercreativestl.com
X-WR-CALDESC:Events for Power Creative
REFRESH-INTERVAL;VALUE=DURATION:PT1H
X-Robots-Tag:noindex
X-PUBLISHED-TTL:PT1H
BEGIN:VTIMEZONE
TZID:America/Chicago
BEGIN:DAYLIGHT
TZOFFSETFROM:-0600
TZOFFSETTO:-0500
TZNAME:CDT
DTSTART:20240310T080000
END:DAYLIGHT
BEGIN:STANDARD
TZOFFSETFROM:-0500
TZOFFSETTO:-0600
TZNAME:CST
DTSTART:20241103T070000
END:STANDARD
BEGIN:DAYLIGHT
TZOFFSETFROM:-0600
TZOFFSETTO:-0500
TZNAME:CDT
DTSTART:20250309T080000
END:DAYLIGHT
BEGIN:STANDARD
TZOFFSETFROM:-0500
TZOFFSETTO:-0600
TZNAME:CST
DTSTART:20251102T070000
END:STANDARD
BEGIN:DAYLIGHT
TZOFFSETFROM:-0600
TZOFFSETTO:-0500
TZNAME:CDT
DTSTART:20260308T080000
END:DAYLIGHT
BEGIN:STANDARD
TZOFFSETFROM:-0500
TZOFFSETTO:-0600
TZNAME:CST
DTSTART:20261101T070000
END:STANDARD
END:VTIMEZONE
BEGIN:VEVENT
DTSTART;TZID=America/Chicago:20251220T180000
DTEND;TZID=America/Chicago:20251220T200000
DTSTAMP:20260424T085247
CREATED:20251112T235613Z
LAST-MODIFIED:20251113T165659Z
UID:10001767-1766253600-1766260800@powercreativestl.com
SUMMARY:Jingle & Mingle 2025: A Continuum Vocal Ensemble Holiday Experience
DESCRIPTION:Haul out the holly\, dust off that gloriously ugly sweater\, and warm up your vocal cords for an evening of festive fun\, music\, and merry mischief. Join us Saturday Dec 20th for Continuum Vocal Ensemble’s annual ✨”Jingle & Mingle” ✨ holiday experience! \n\n\n\n\n\n\n\n\n\n\n\n\n\n\n\n\n\n\n\n\n\n\n\n\n\n\nReserve Your Tickets Here\n\n\n\n\n\n\n\n\n\n\n\n\nThe Experience \n\n\n\nIt’s not just a concert—it’s a holiday hangout filled with laughter\, song\, and cheer featuring:  \n\n\n\n\n☃️ Live holiday performances from Continuum’s fabulous singers all evening long\n\n\n\n🎅🏼 Sing-along moments where you become part of the show\n\n\n\n🎄 The legendary Ugly Sweater Contest — come dressed to impress (or distress!)\n\n\n\n🍸 Cash bar featuring festive cocktails and mocktails\n\n\n\n🍡 Sweet holiday treats to keep your spirits bright\n\n\n\n💬 Time to mingle with our singers and fellow merry-makers\n\n\n\n\n\n\n\n\n\n\n\n\n\n\n\n\n\n\n\n\nThe Ensemble  \n\n\n\nLed by Dr. John McDonald\, Director of Choir and Vocal Studies at Washington University\, Continuum Vocal Ensemble is made up of passionate\, professionally trained vocal artists dedicated to sharing the power of transformative choral music. \n\n\n\nOur mission is simple but bold: to perform innovative choral works in unconventional spaces—bringing new audiences together through creativity\, connection\, and song. \n\n\n\n\n\n\n\n\n\n\n\n\n\n\n\n\n\n\n\nThe Setting \n\n\n\nContinuing our mission to bring music to unexpected and inspiring spaces\, this year’s celebration takes place in one of St. Louis’s most striking architectural gems — a former Catholic church transformed into the creative home of Power Creative\, a boutique design agency in the heart of Tower Grove South. \n\n\n\nIt’s equal parts sacred and stylish: soaring ceilings\, stained glass\, and a touch of holiday magic. You’re going to love this space! \n\n\n\n\n\n\n\n\n\n\n\n\n\n\n\n\n\n\n\nThe Other Stuff \n\n\n\n\n🎟 Tickets –  Tickets are just $25 + please bring one non-perishable food item per person to donate to Food Outreach \n\n\n\n🎩 Dress – Holiday party casual OR your finest ugly holiday sweater!  \n\n\n\n📍Location – Power Creative\, 3221 Oak Hill Ave\, St. Louis\, MO 63116 \n\n\n\n🕠 Time –  6-8:00 pm. The ensemble will perform multiple times during the evening\, starting around 6:15 pm \n\n\n\n🚘 Parking: A free fenced parking lot is available just adjacent to Power Creative. Free street parking is also available.  \n\n\n\n\n\n\n\n\n\n\n\n\n\n\n\n\n\n\n\n\n\n\n❓Questions: Please email us at continuumve@gmail.com
URL:https://powercreativestl.com/event/jingle-mingle-2025-a-continuum-vocal-ensemble-holiday-experience/
ATTACH;FMTTYPE=image/png:https://powercreativestl.com/wp-content/uploads/2025/11/Screenshot-2025-11-12-at-5.39.06-PM.png
END:VEVENT
END:VCALENDAR