BEGIN:VCALENDAR
VERSION:2.0
PRODID:-//Power Creative - ECPv6.15.20//NONSGML v1.0//EN
CALSCALE:GREGORIAN
METHOD:PUBLISH
X-WR-CALNAME:Power Creative
X-ORIGINAL-URL:https://powercreativestl.com
X-WR-CALDESC:Events for Power Creative
REFRESH-INTERVAL;VALUE=DURATION:PT1H
X-Robots-Tag:noindex
X-PUBLISHED-TTL:PT1H
BEGIN:VTIMEZONE
TZID:America/Chicago
BEGIN:DAYLIGHT
TZOFFSETFROM:-0600
TZOFFSETTO:-0500
TZNAME:CDT
DTSTART:20240310T080000
END:DAYLIGHT
BEGIN:STANDARD
TZOFFSETFROM:-0500
TZOFFSETTO:-0600
TZNAME:CST
DTSTART:20241103T070000
END:STANDARD
BEGIN:DAYLIGHT
TZOFFSETFROM:-0600
TZOFFSETTO:-0500
TZNAME:CDT
DTSTART:20250309T080000
END:DAYLIGHT
BEGIN:STANDARD
TZOFFSETFROM:-0500
TZOFFSETTO:-0600
TZNAME:CST
DTSTART:20251102T070000
END:STANDARD
BEGIN:DAYLIGHT
TZOFFSETFROM:-0600
TZOFFSETTO:-0500
TZNAME:CDT
DTSTART:20260308T080000
END:DAYLIGHT
BEGIN:STANDARD
TZOFFSETFROM:-0500
TZOFFSETTO:-0600
TZNAME:CST
DTSTART:20261101T070000
END:STANDARD
END:VTIMEZONE
BEGIN:VEVENT
DTSTART;TZID=America/Chicago:20251213T190000
DTEND;TZID=America/Chicago:20251213T210000
DTSTAMP:20260424T085253
CREATED:20250827T195340Z
LAST-MODIFIED:20251126T192218Z
UID:10000348-1765652400-1765659600@powercreativestl.com
SUMMARY:Art Show Special Event
DESCRIPTION:Suggested Admission:A Donation of personal hygiene items to benefit North City Storm Relief efforts\n\n\n\n\n\n\n\n\n\n\n\nTHE SHOW\n\n\n\nJoin us for a showing of local fine arts\, featuring a curated selection of paintings and ceramics. Whether you are looking to take in the St. Louis art scene or pick up a holiday gift for the art lover in your life\, the works on display are not to be missed! \n\n\n\nTHE ARTISTS\n\n\n\nJames Ibur is Professor of Art and Coordinator of Ceramics for the Department of Communications\, Design and Creative Arts at Saint Louis Community College-Meramec. He is a multi-disciplinary artist and curator with emphases on functional and sculptural ceramics\, painting and drawing and is also a songwriter and musician with one solo record (Floating-2024) and four records with his band\, Flying House (including Blood Red Moon\, 2025). \n\n\n\nDanny Bess is a painter working in explorations of color\, movement\, velocity\, and time. His use of color relationships and impactful brush marks imply speed and capture the energy of the art making process. Regardless of subject\, the figures in his pieces reflect a motion and tempo as if translating a musical score. The goal is to emulate music visually. In describing his art\, Bess stated\, “I never reject any mark I make while painting; I accept them all. Through this acceptance\, I hope to find something that is representational in the portrait I paint\, but executed with the non-representational freedom of music.” \n\n\n\nAlicia Jackson is the founder of ArtRise Leadership Training\, creating community art initiatives that merge emotional intelligence with creativity. Jackson teaches leaders how to cultivate empathy and connection in their teams through hands-on\, heart-forward experiences that spark real transformation. In her own art\, Jackson has always been drawn to “seeing the truth beneath the surface\, understanding the depth of unspoken stories\, quiet emotions\, unseen threads that connect us as people.” Her work is a practice of curiosity through art\, creating pieces where the canvas is revealing a hidden layer beneath; a process that would eventually become the foundation her signature tactile Lumen Peel™ technique. \n\n\n\nCraig Vucinovich is an engineer by day\, creating art in his spare time without the expectation of displaying it. His works rely on confident line and evocative curves to walk the line between mathematics and expressionism. His figures are reminiscent of the minimalist works of David Cantu or Pablo Picasso\, with a movement and style all his own. When others discovered Vucinovich’s cache of artworks they insisted he share them with the world\, so this will be his first gallery showing; given the response we have already received\, it will likely not be his last. \n\n\n\nTHE SPACE\n\n\n\nThe WEvent Space is a distinctive venue located in the heart of the Tower Grove South neighborhood\, set within a beautifully restored church. Embracing the spirit of its historic roots\, the space provides a laid-back\, welcoming setting for a wide array of local live acts. Central to its mission is the WEConcert Series—an ongoing effort to reestablish the former church as a vibrant hub and gathering place for the community. Through music\, art\, and connection\, WEvent Space invites all to be part of a shared creative experience in one of the neighborhood’s most unique venues. \n\n\n\n\n\n\n\n\n\n\n\n\n\n\n\n\n\nShare this WEvent \n\n\n\n   Facebook   Twitter   Messenger   Reddit   Gmail\n\n\n\n\n\nWEvent FAQs \n\n\n\n\n\n\n\n\n\n\nWill there be drinks available at the event?\nYes\, we have a small bar in-house offering a variety of beverages. \n\n\n\n\nWhat is the parking situation?\nWe have a small private parking lot on Humphry\, just West of the main building\, and plenty of free street parking around us. \n\n\n\n\nIs there an easy way to keep up with all of the concerts at the WEvent Space?\nIn fact\, there are several! We keep our events updated on our Calendar\, Songkick\, Eventbrite\, Facebook\, and our Monthly Newsletter. \n\n\n\n\nIs the WEvent Space available to rent for private parties or special occasions?\nAbsolutely! We have accommodated all kinds of events\, from choir practice\, to board meetings\, to luncheons\, to yoga classes. You name it\, one of our spaces is bound to fit your needs. Learn more on our website\, here.
URL:https://powercreativestl.com/event/art-show-2025/
CATEGORIES:WEConcert
ATTACH;FMTTYPE=image/jpeg:https://powercreativestl.com/wp-content/uploads/2025/08/Art-Show_1-Chicklet-v1-scaled.jpg
END:VEVENT
END:VCALENDAR