BEGIN:VCALENDAR
VERSION:2.0
PRODID:-//Power Creative - ECPv6.15.20//NONSGML v1.0//EN
CALSCALE:GREGORIAN
METHOD:PUBLISH
X-WR-CALNAME:Power Creative
X-ORIGINAL-URL:https://powercreativestl.com
X-WR-CALDESC:Events for Power Creative
REFRESH-INTERVAL;VALUE=DURATION:PT1H
X-Robots-Tag:noindex
X-PUBLISHED-TTL:PT1H
BEGIN:VTIMEZONE
TZID:America/Chicago
BEGIN:DAYLIGHT
TZOFFSETFROM:-0600
TZOFFSETTO:-0500
TZNAME:CDT
DTSTART:20240310T080000
END:DAYLIGHT
BEGIN:STANDARD
TZOFFSETFROM:-0500
TZOFFSETTO:-0600
TZNAME:CST
DTSTART:20241103T070000
END:STANDARD
BEGIN:DAYLIGHT
TZOFFSETFROM:-0600
TZOFFSETTO:-0500
TZNAME:CDT
DTSTART:20250309T080000
END:DAYLIGHT
BEGIN:STANDARD
TZOFFSETFROM:-0500
TZOFFSETTO:-0600
TZNAME:CST
DTSTART:20251102T070000
END:STANDARD
BEGIN:DAYLIGHT
TZOFFSETFROM:-0600
TZOFFSETTO:-0500
TZNAME:CDT
DTSTART:20260308T080000
END:DAYLIGHT
BEGIN:STANDARD
TZOFFSETFROM:-0500
TZOFFSETTO:-0600
TZNAME:CST
DTSTART:20261101T070000
END:STANDARD
END:VTIMEZONE
BEGIN:VEVENT
DTSTART;TZID=America/Chicago:20251122T000000
DTEND;TZID=America/Chicago:20251122T235959
DTSTAMP:20260424T102748
CREATED:20251001T195603Z
LAST-MODIFIED:20251027T204028Z
UID:10000357-1763769600-1763855999@powercreativestl.com
SUMMARY:100 Year Anniversary: 3221 Oak Hill Ave.
DESCRIPTION:3221 Oak Hill turns 100! Once Holy Family Catholic Church\, the building was desanctified and returned to the community as home to Power Creative Marketing and the WEvent Space.  \n\n\n\nThe Anniversary Celebration has been postponed to spring (stay tuned)\, but feel free to come visit the space and share a memory or two in the meantime!
URL:https://powercreativestl.com/event/100-year-celebration-3221-oak-hill-ave/
ATTACH;FMTTYPE=image/png:https://powercreativestl.com/wp-content/uploads/2025/10/100-Year-Anniversary-Chiclet.png
END:VEVENT
END:VCALENDAR