BEGIN:VCALENDAR
VERSION:2.0
PRODID:-//Power Creative - ECPv6.15.20//NONSGML v1.0//EN
CALSCALE:GREGORIAN
METHOD:PUBLISH
X-ORIGINAL-URL:https://powercreativestl.com
X-WR-CALDESC:Events for Power Creative
REFRESH-INTERVAL;VALUE=DURATION:PT1H
X-Robots-Tag:noindex
X-PUBLISHED-TTL:PT1H
BEGIN:VTIMEZONE
TZID:America/Chicago
BEGIN:DAYLIGHT
TZOFFSETFROM:-0600
TZOFFSETTO:-0500
TZNAME:CDT
DTSTART:20240310T080000
END:DAYLIGHT
BEGIN:STANDARD
TZOFFSETFROM:-0500
TZOFFSETTO:-0600
TZNAME:CST
DTSTART:20241103T070000
END:STANDARD
BEGIN:DAYLIGHT
TZOFFSETFROM:-0600
TZOFFSETTO:-0500
TZNAME:CDT
DTSTART:20250309T080000
END:DAYLIGHT
BEGIN:STANDARD
TZOFFSETFROM:-0500
TZOFFSETTO:-0600
TZNAME:CST
DTSTART:20251102T070000
END:STANDARD
BEGIN:DAYLIGHT
TZOFFSETFROM:-0600
TZOFFSETTO:-0500
TZNAME:CDT
DTSTART:20260308T080000
END:DAYLIGHT
BEGIN:STANDARD
TZOFFSETFROM:-0500
TZOFFSETTO:-0600
TZNAME:CST
DTSTART:20261101T070000
END:STANDARD
END:VTIMEZONE
BEGIN:VEVENT
DTSTART;TZID=America/Chicago:20250710T180000
DTEND;TZID=America/Chicago:20250710T210000
DTSTAMP:20260424T161536
CREATED:20250619T191529Z
LAST-MODIFIED:20250619T194920Z
UID:10000266-1752170400-1752181200@powercreativestl.com
SUMMARY:Scholarship Fundraiser Benefiting the Hispanic Scholarship Alliance
DESCRIPTION:July 10th from 6:00 – 9:00 PM | Doors Open 6:00 PM\n\n\n\n\n \nLIVE LATIN MUSIC\n\n\n\n\nFt. Emerson Megaña & Ivan Ortiz\n\n\n\nLive Music Starts 6:30 PM\n\n\n\n\n \n\n\n\nTICKETS INCLUDE:\n\n\n\n2 Tacos + Rice & Beans from TACOS SAMMY\n\n\n\n\n\nBeverages for sale.\n  \n\n\n\n\n\n\n\nPurchase your ticket by scanning the code above\, or at HSAFundraiser2025.eventbrite.com\n\n\n\n\n\n \n\n\n\n\n\n\n\n 
URL:https://powercreativestl.com/event/scholarship-fundraiser-benefiting-the-hispanic-scholarship-alliance/
ATTACH;FMTTYPE=image/avif:https://powercreativestl.com/wp-content/uploads/2025/06/Scholarship-Fundraiser.avif
END:VEVENT
END:VCALENDAR