BEGIN:VCALENDAR
VERSION:2.0
PRODID:-//Power Creative - ECPv6.15.20//NONSGML v1.0//EN
CALSCALE:GREGORIAN
METHOD:PUBLISH
X-WR-CALNAME:Power Creative
X-ORIGINAL-URL:https://powercreativestl.com
X-WR-CALDESC:Events for Power Creative
REFRESH-INTERVAL;VALUE=DURATION:PT1H
X-Robots-Tag:noindex
X-PUBLISHED-TTL:PT1H
BEGIN:VTIMEZONE
TZID:America/Chicago
BEGIN:DAYLIGHT
TZOFFSETFROM:-0600
TZOFFSETTO:-0500
TZNAME:CDT
DTSTART:20240310T080000
END:DAYLIGHT
BEGIN:STANDARD
TZOFFSETFROM:-0500
TZOFFSETTO:-0600
TZNAME:CST
DTSTART:20241103T070000
END:STANDARD
BEGIN:DAYLIGHT
TZOFFSETFROM:-0600
TZOFFSETTO:-0500
TZNAME:CDT
DTSTART:20250309T080000
END:DAYLIGHT
BEGIN:STANDARD
TZOFFSETFROM:-0500
TZOFFSETTO:-0600
TZNAME:CST
DTSTART:20251102T070000
END:STANDARD
BEGIN:DAYLIGHT
TZOFFSETFROM:-0600
TZOFFSETTO:-0500
TZNAME:CDT
DTSTART:20260308T080000
END:DAYLIGHT
BEGIN:STANDARD
TZOFFSETFROM:-0500
TZOFFSETTO:-0600
TZNAME:CST
DTSTART:20261101T070000
END:STANDARD
END:VTIMEZONE
BEGIN:VEVENT
DTSTART;TZID=America/Chicago:20250530T190000
DTEND;TZID=America/Chicago:20250530T210000
DTSTAMP:20260424T184739
CREATED:20250506T151759Z
LAST-MODIFIED:20250524T142644Z
UID:10000258-1748631600-1748638800@powercreativestl.com
SUMMARY:STORM RELIEF Benefit Concert — featuring Lucy Black Electric
DESCRIPTION:PROCEEDS TO SUPPORT STL STORM RELIEF EFFORTS \nJoin us for another fun night of R&B/pop!\nDoors open at 6:30pm.\nBand: Lucy Black Electric — Brought to you by Lucy Black Entertainment\nCover: $15 @ door (cash and Venmo only) \n \nWe will also be collecting food and supplies to support the The People’s Rapid Relief Response:\nAction STL\, Black Men Build\, FCC\, and Food City
URL:https://powercreativestl.com/event/save-the-date-weconcert-3/
LOCATION:WEvent Space\, 3221 Oak Hill Ave\, St. Louis\, MO\, 63116\, United States
ATTACH;FMTTYPE=image/png:https://powercreativestl.com/wp-content/uploads/2025/05/PNG-image-1.png
END:VEVENT
END:VCALENDAR